BEGIN:VCALENDAR
VERSION:2.0
PRODID:-//Waltrip High School PTO - ECPv6.15.20//NONSGML v1.0//EN
CALSCALE:GREGORIAN
METHOD:PUBLISH
X-WR-CALNAME:Waltrip High School PTO
X-ORIGINAL-URL:https://waltriphspto.org
X-WR-CALDESC:Events for Waltrip High School PTO
REFRESH-INTERVAL;VALUE=DURATION:PT1H
X-Robots-Tag:noindex
X-PUBLISHED-TTL:PT1H
BEGIN:VTIMEZONE
TZID:America/Chicago
BEGIN:DAYLIGHT
TZOFFSETFROM:-0600
TZOFFSETTO:-0500
TZNAME:CDT
DTSTART:20230312T080000
END:DAYLIGHT
BEGIN:STANDARD
TZOFFSETFROM:-0500
TZOFFSETTO:-0600
TZNAME:CST
DTSTART:20231105T070000
END:STANDARD
BEGIN:DAYLIGHT
TZOFFSETFROM:-0600
TZOFFSETTO:-0500
TZNAME:CDT
DTSTART:20240310T080000
END:DAYLIGHT
BEGIN:STANDARD
TZOFFSETFROM:-0500
TZOFFSETTO:-0600
TZNAME:CST
DTSTART:20241103T070000
END:STANDARD
BEGIN:DAYLIGHT
TZOFFSETFROM:-0600
TZOFFSETTO:-0500
TZNAME:CDT
DTSTART:20250309T080000
END:DAYLIGHT
BEGIN:STANDARD
TZOFFSETFROM:-0500
TZOFFSETTO:-0600
TZNAME:CST
DTSTART:20251102T070000
END:STANDARD
BEGIN:DAYLIGHT
TZOFFSETFROM:-0600
TZOFFSETTO:-0500
TZNAME:CDT
DTSTART:20260308T080000
END:DAYLIGHT
BEGIN:STANDARD
TZOFFSETFROM:-0500
TZOFFSETTO:-0600
TZNAME:CST
DTSTART:20261101T070000
END:STANDARD
END:VTIMEZONE
BEGIN:VEVENT
DTSTART;TZID=America/Chicago:20250930T170000
DTEND;TZID=America/Chicago:20250930T170000
DTSTAMP:20260424T192248
CREATED:20250812T190138Z
LAST-MODIFIED:20250812T190138Z
UID:3739-1759251600-1759251600@waltriphspto.org
SUMMARY:Waltrip Volleyball vs. Spring Woods
DESCRIPTION:
URL:https://waltriphspto.org/event/waltrip-volleyball-vs-spring-woods-3/
LOCATION:TX
CATEGORIES:Athletics,Volleyball
ATTACH;FMTTYPE=image/png:https://waltriphspto.org/wp-content/uploads/2025/08/volleyball-1.png
END:VEVENT
BEGIN:VEVENT
DTSTART;TZID=America/Chicago:20250926T180000
DTEND;TZID=America/Chicago:20250926T180000
DTSTAMP:20260424T192248
CREATED:20250812T190207Z
LAST-MODIFIED:20250812T190207Z
UID:3741-1758909600-1758909600@waltriphspto.org
SUMMARY:Waltrip Volleyball vs. Milby
DESCRIPTION:
URL:https://waltriphspto.org/event/waltrip-volleyball-vs-milby-3/
LOCATION:Delmar\, 2020 Mangum Rd\, Houston\, TX\, 77092\, United States
CATEGORIES:Athletics,Volleyball
ATTACH;FMTTYPE=image/png:https://waltriphspto.org/wp-content/uploads/2025/08/volleyball-1.png
END:VEVENT
BEGIN:VEVENT
DTSTART;TZID=America/Chicago:20250923T193000
DTEND;TZID=America/Chicago:20250923T193000
DTSTAMP:20260424T192248
CREATED:20250812T190010Z
LAST-MODIFIED:20250812T190010Z
UID:3737-1758655800-1758655800@waltriphspto.org
SUMMARY:Waltrip Volleyball vs. Madison
DESCRIPTION:
URL:https://waltriphspto.org/event/waltrip-volleyball-vs-madison-4/
LOCATION:TX
CATEGORIES:Athletics,Volleyball
ATTACH;FMTTYPE=image/png:https://waltriphspto.org/wp-content/uploads/2025/08/volleyball-1.png
END:VEVENT
BEGIN:VEVENT
DTSTART;TZID=America/Chicago:20250919T170000
DTEND;TZID=America/Chicago:20250919T170000
DTSTAMP:20260424T192248
CREATED:20250812T185928Z
LAST-MODIFIED:20250812T185928Z
UID:3734-1758301200-1758301200@waltriphspto.org
SUMMARY:Waltrip Volleyball vs. Madison
DESCRIPTION:
URL:https://waltriphspto.org/event/waltrip-volleyball-vs-madison-3/
LOCATION:TX
CATEGORIES:Athletics,Volleyball
ATTACH;FMTTYPE=image/png:https://waltriphspto.org/wp-content/uploads/2025/08/volleyball-1.png
END:VEVENT
BEGIN:VEVENT
DTSTART;TZID=America/Chicago:20250916T180000
DTEND;TZID=America/Chicago:20250916T180000
DTSTAMP:20260424T192248
CREATED:20250812T185852Z
LAST-MODIFIED:20250812T185852Z
UID:3731-1758045600-1758045600@waltriphspto.org
SUMMARY:Waltrip Volleyball vs. Austin
DESCRIPTION:
URL:https://waltriphspto.org/event/waltrip-volleyball-vs-austin-3/
LOCATION:Delmar\, 2020 Mangum Rd\, Houston\, TX\, 77092\, United States
CATEGORIES:Athletics,Volleyball
ATTACH;FMTTYPE=image/png:https://waltriphspto.org/wp-content/uploads/2025/08/volleyball-1.png
END:VEVENT
BEGIN:VEVENT
DTSTART;TZID=America/Chicago:20250912T163000
DTEND;TZID=America/Chicago:20250912T163000
DTSTAMP:20260424T192248
CREATED:20250812T185815Z
LAST-MODIFIED:20250812T185815Z
UID:3728-1757694600-1757694600@waltriphspto.org
SUMMARY:Waltrip Volleyball vs. Carnegie
DESCRIPTION:
URL:https://waltriphspto.org/event/waltrip-volleyball-vs-carnegie-3/
LOCATION:TX
CATEGORIES:Athletics,Volleyball
ATTACH;FMTTYPE=image/png:https://waltriphspto.org/wp-content/uploads/2025/08/volleyball-1.png
END:VEVENT
BEGIN:VEVENT
DTSTART;TZID=America/Chicago:20250909T163000
DTEND;TZID=America/Chicago:20250909T163000
DTSTAMP:20260424T192248
CREATED:20250812T185519Z
LAST-MODIFIED:20250812T185519Z
UID:3726-1757435400-1757435400@waltriphspto.org
SUMMARY:Waltrip Volleyball vs. Galena Park
DESCRIPTION:
URL:https://waltriphspto.org/event/waltrip-volleyball-vs-galena-park-3/
LOCATION:Waltrip High School\, 1900 W. 34th\, Houston\, TX\, 77018
CATEGORIES:Athletics,Volleyball
ATTACH;FMTTYPE=image/png:https://waltriphspto.org/wp-content/uploads/2025/08/volleyball-1.png
END:VEVENT
BEGIN:VEVENT
DTSTART;TZID=America/Chicago:20250905T193000
DTEND;TZID=America/Chicago:20250905T193000
DTSTAMP:20260424T192248
CREATED:20250812T185432Z
LAST-MODIFIED:20250812T185432Z
UID:3724-1757100600-1757100600@waltriphspto.org
SUMMARY:Waltrip Volleyball vs. Sharpstown
DESCRIPTION:
URL:https://waltriphspto.org/event/waltrip-volleyball-vs-sharpstown-3/
LOCATION:TX
CATEGORIES:Athletics,Volleyball
ATTACH;FMTTYPE=image/png:https://waltriphspto.org/wp-content/uploads/2025/08/volleyball-1.png
END:VEVENT
BEGIN:VEVENT
DTSTART;TZID=America/Chicago:20250903T180000
DTEND;TZID=America/Chicago:20250903T180000
DTSTAMP:20260424T192248
CREATED:20250812T185358Z
LAST-MODIFIED:20250812T185358Z
UID:3722-1756922400-1756922400@waltriphspto.org
SUMMARY:Waltrip Volleyball vs. Westbury
DESCRIPTION:
URL:https://waltriphspto.org/event/waltrip-volleyball-vs-westbury-3/
LOCATION:Waltrip High School\, 1900 W. 34th\, Houston\, TX\, 77018
CATEGORIES:Athletics,Volleyball
ATTACH;FMTTYPE=image/png:https://waltriphspto.org/wp-content/uploads/2025/08/volleyball-1.png
END:VEVENT
BEGIN:VEVENT
DTSTART;TZID=America/Chicago:20250829T163000
DTEND;TZID=America/Chicago:20250829T163000
DTSTAMP:20260424T192248
CREATED:20250812T185324Z
LAST-MODIFIED:20250812T185324Z
UID:3720-1756485000-1756485000@waltriphspto.org
SUMMARY:Waltrip Volleyball vs. Spring Woods
DESCRIPTION:
URL:https://waltriphspto.org/event/waltrip-volleyball-vs-spring-woods-2/
LOCATION:Waltrip High School\, 1900 W. 34th\, Houston\, TX\, 77018
CATEGORIES:Athletics,Volleyball
ATTACH;FMTTYPE=image/png:https://waltriphspto.org/wp-content/uploads/2025/08/volleyball-1.png
END:VEVENT
BEGIN:VEVENT
DTSTART;TZID=America/Chicago:20250826T180000
DTEND;TZID=America/Chicago:20250826T180000
DTSTAMP:20260424T192248
CREATED:20250812T185246Z
LAST-MODIFIED:20250812T185246Z
UID:3718-1756231200-1756231200@waltriphspto.org
SUMMARY:Waltrip Volleyball vs. Milby
DESCRIPTION:
URL:https://waltriphspto.org/event/waltrip-volleyball-vs-milby-2/
LOCATION:Waltrip High School\, 1900 W. 34th\, Houston\, TX\, 77018
CATEGORIES:Athletics,Volleyball
ATTACH;FMTTYPE=image/png:https://waltriphspto.org/wp-content/uploads/2025/08/volleyball-1.png
END:VEVENT
BEGIN:VEVENT
DTSTART;TZID=America/Chicago:20250821T000000
DTEND;TZID=America/Chicago:20250823T235959
DTSTAMP:20260424T192248
CREATED:20250812T185200Z
LAST-MODIFIED:20250812T185200Z
UID:3716-1755734400-1755993599@waltriphspto.org
SUMMARY:Waltrip Volleyball Aldine Davis Tour
DESCRIPTION:
URL:https://waltriphspto.org/event/waltrip-volleyball-aldine-davis-tour/
LOCATION:TX
CATEGORIES:Athletics,Volleyball
ATTACH;FMTTYPE=image/png:https://waltriphspto.org/wp-content/uploads/2025/08/volleyball-1.png
END:VEVENT
BEGIN:VEVENT
DTSTART;TZID=America/Chicago:20250819T170000
DTEND;TZID=America/Chicago:20250819T170000
DTSTAMP:20260424T192248
CREATED:20250812T185125Z
LAST-MODIFIED:20250812T185125Z
UID:3714-1755622800-1755622800@waltriphspto.org
SUMMARY:Waltrip Volleyball vs. Scarborough
DESCRIPTION:
URL:https://waltriphspto.org/event/waltrip-volleyball-vs-scarborough/
LOCATION:Waltrip High School\, 1900 W. 34th\, Houston\, TX\, 77018
CATEGORIES:Athletics,Volleyball
ATTACH;FMTTYPE=image/png:https://waltriphspto.org/wp-content/uploads/2025/08/volleyball-1.png
END:VEVENT
BEGIN:VEVENT
DTSTART;TZID=America/Chicago:20250816T000000
DTEND;TZID=America/Chicago:20250816T235959
DTSTAMP:20260424T192248
CREATED:20250812T185027Z
LAST-MODIFIED:20250812T185027Z
UID:3711-1755302400-1755388799@waltriphspto.org
SUMMARY:Waltrip Volleyball Chavez Tournament
DESCRIPTION:
URL:https://waltriphspto.org/event/waltrip-volleyball-chavez-tournament/
LOCATION:TX
CATEGORIES:Athletics,Volleyball
ATTACH;FMTTYPE=image/png:https://waltriphspto.org/wp-content/uploads/2025/08/volleyball-1.png
END:VEVENT
BEGIN:VEVENT
DTSTART;TZID=America/Chicago:20250813T180000
DTEND;TZID=America/Chicago:20250813T180000
DTSTAMP:20260424T192248
CREATED:20250812T184949Z
LAST-MODIFIED:20250812T184949Z
UID:3709-1755108000-1755108000@waltriphspto.org
SUMMARY:Waltrip Volleyball vs. Northside
DESCRIPTION:
URL:https://waltriphspto.org/event/waltrip-volleyball-vs-northside/
LOCATION:Waltrip High School\, 1900 W. 34th\, Houston\, TX\, 77018
CATEGORIES:Athletics,Volleyball
ATTACH;FMTTYPE=image/png:https://waltriphspto.org/wp-content/uploads/2025/08/volleyball-1.png
END:VEVENT
BEGIN:VEVENT
DTSTART;TZID=America/Chicago:20250812T173000
DTEND;TZID=America/Chicago:20250812T173000
DTSTAMP:20260424T192248
CREATED:20250812T184914Z
LAST-MODIFIED:20250812T184914Z
UID:3706-1755019800-1755019800@waltriphspto.org
SUMMARY:Waltrip Volleyball vs. St. Pius
DESCRIPTION:
URL:https://waltriphspto.org/event/waltrip-volleyball-vs-st-pius/
LOCATION:Waltrip High School\, 1900 W. 34th\, Houston\, TX\, 77018
CATEGORIES:Athletics,Volleyball
ATTACH;FMTTYPE=image/png:https://waltriphspto.org/wp-content/uploads/2025/08/volleyball-1.png
END:VEVENT
BEGIN:VEVENT
DTSTART;TZID=America/Chicago:20250614T090000
DTEND;TZID=America/Chicago:20250614T110000
DTSTAMP:20260424T192248
CREATED:20250513T154252Z
LAST-MODIFIED:20250513T154252Z
UID:3080-1749891600-1749898800@waltriphspto.org
SUMMARY:2025 Ram Volleyball Camp
DESCRIPTION:Grades K – 9\nSaturday\, June 14\, 2025 | 9 – 11am\nFree\n\nRegister: https://docs.google.com/forms/u/0/d/e/1FAIpQLScsRLu4Bnk-2JeLPTeN-XfV25OCgCPAGnXBRZ1LwIIfw4NfIQ/viewform
URL:https://waltriphspto.org/event/2025-ram-volleyball-camp/
LOCATION:Waltrip High School\, 1900 W. 34th\, Houston\, TX\, 77018
CATEGORIES:Summer Camps,Volleyball
END:VEVENT
BEGIN:VEVENT
DTSTART;TZID=America/Chicago:20241025T180000
DTEND;TZID=America/Chicago:20241025T180000
DTSTAMP:20260424T192248
CREATED:20241001T200749Z
LAST-MODIFIED:20241001T200749Z
UID:1670-1729879200-1729879200@waltriphspto.org
SUMMARY:Waltrip Volleyball vs Madison
DESCRIPTION:Varsity
URL:https://waltriphspto.org/event/waltrip-volleyball-vs-madison-2/
LOCATION:Butler\, 13755 S Main St\, Houston\, 77035\, United States
CATEGORIES:Sports,Volleyball
ATTACH;FMTTYPE=image/png:https://waltriphspto.org/wp-content/uploads/2024/07/vb2024.png
END:VEVENT
BEGIN:VEVENT
DTSTART;TZID=America/Chicago:20241022T193000
DTEND;TZID=America/Chicago:20241022T193000
DTSTAMP:20260424T192248
CREATED:20241001T200655Z
LAST-MODIFIED:20241022T142339Z
UID:1668-1729625400-1729625400@waltriphspto.org
SUMMARY:Waltrip Volleyball vs Austin
DESCRIPTION:Varsity
URL:https://waltriphspto.org/event/waltrip-volleyball-vs-austin-2/
LOCATION:Delmar\, 2020 Mangum Rd\, Houston\, TX\, 77092\, United States
CATEGORIES:Sports,Volleyball
ATTACH;FMTTYPE=image/png:https://waltriphspto.org/wp-content/uploads/2024/07/vb2024.png
END:VEVENT
BEGIN:VEVENT
DTSTART;TZID=America/Chicago:20241018T180000
DTEND;TZID=America/Chicago:20241018T180000
DTSTAMP:20260424T192248
CREATED:20241001T200629Z
LAST-MODIFIED:20241001T200629Z
UID:1666-1729274400-1729274400@waltriphspto.org
SUMMARY:Waltrip Volleyball vs Carnegie
DESCRIPTION:Varsity
URL:https://waltriphspto.org/event/waltrip-volleyball-vs-carnegie-2/
LOCATION:Delmar\, 2020 Mangum Rd\, Houston\, TX\, 77092\, United States
CATEGORIES:Sports,Volleyball
ATTACH;FMTTYPE=image/png:https://waltriphspto.org/wp-content/uploads/2024/07/vb2024.png
END:VEVENT
BEGIN:VEVENT
DTSTART;TZID=America/Chicago:20241015T180000
DTEND;TZID=America/Chicago:20241015T180000
DTSTAMP:20260424T192248
CREATED:20241001T200606Z
LAST-MODIFIED:20241001T200606Z
UID:1664-1729015200-1729015200@waltriphspto.org
SUMMARY:Waltrip Volleyball vs Galena Park
DESCRIPTION:Varsity
URL:https://waltriphspto.org/event/waltrip-volleyball-vs-galena-park-2/
LOCATION:Delmar\, 2020 Mangum Rd\, Houston\, TX\, 77092\, United States
CATEGORIES:Sports,Volleyball
ATTACH;FMTTYPE=image/png:https://waltriphspto.org/wp-content/uploads/2024/07/vb2024.png
END:VEVENT
BEGIN:VEVENT
DTSTART;TZID=America/Chicago:20241011T180000
DTEND;TZID=America/Chicago:20241011T180000
DTSTAMP:20260424T192248
CREATED:20241001T200538Z
LAST-MODIFIED:20241001T200538Z
UID:1662-1728669600-1728669600@waltriphspto.org
SUMMARY:Waltrip Volleyball vs Sharpstown
DESCRIPTION:Varsity
URL:https://waltriphspto.org/event/waltrip-volleyball-vs-sharpstown-2/
LOCATION:Butler\, 13755 S Main St\, Houston\, 77035\, United States
CATEGORIES:Sports,Volleyball
ATTACH;FMTTYPE=image/png:https://waltriphspto.org/wp-content/uploads/2024/07/vb2024.png
END:VEVENT
BEGIN:VEVENT
DTSTART;TZID=America/Chicago:20241008T193000
DTEND;TZID=America/Chicago:20241008T193000
DTSTAMP:20260424T192248
CREATED:20241001T200455Z
LAST-MODIFIED:20241001T200455Z
UID:1660-1728415800-1728415800@waltriphspto.org
SUMMARY:Waltrip Volleyball vs Westbury
DESCRIPTION:Varsity
URL:https://waltriphspto.org/event/waltrip-volleyball-vs-westbury-2/
LOCATION:Delmar\, 2020 Mangum Rd\, Houston\, TX\, 77092\, United States
CATEGORIES:Sports,Volleyball
ATTACH;FMTTYPE=image/png:https://waltriphspto.org/wp-content/uploads/2024/07/vb2024.png
END:VEVENT
BEGIN:VEVENT
DTSTART;TZID=America/Chicago:20241004T163000
DTEND;TZID=America/Chicago:20241004T163000
DTSTAMP:20260424T192248
CREATED:20241001T200418Z
LAST-MODIFIED:20241001T200418Z
UID:1658-1728059400-1728059400@waltriphspto.org
SUMMARY:Waltrip Volleyball vs Spring Woods
DESCRIPTION:Varsity
URL:https://waltriphspto.org/event/waltrip-volleyball-vs-spring-woods/
LOCATION:Delmar\, 2020 Mangum Rd\, Houston\, TX\, 77092\, United States
CATEGORIES:Sports,Volleyball
ATTACH;FMTTYPE=image/png:https://waltriphspto.org/wp-content/uploads/2024/07/vb2024.png
END:VEVENT
BEGIN:VEVENT
DTSTART;TZID=America/Chicago:20241001T163000
DTEND;TZID=America/Chicago:20241001T163000
DTSTAMP:20260424T192248
CREATED:20241001T200342Z
LAST-MODIFIED:20241001T200342Z
UID:1656-1727800200-1727800200@waltriphspto.org
SUMMARY:Waltrip Volleyball vs Milby
DESCRIPTION:Varsity
URL:https://waltriphspto.org/event/waltrip-volleyball-vs-milby/
LOCATION:Delmar\, 2020 Mangum Rd\, Houston\, TX\, 77092\, United States
CATEGORIES:Sports,Volleyball
ATTACH;FMTTYPE=image/png:https://waltriphspto.org/wp-content/uploads/2024/07/vb2024.png
END:VEVENT
BEGIN:VEVENT
DTSTART;TZID=America/Chicago:20240927T193000
DTEND;TZID=America/Chicago:20240927T193000
DTSTAMP:20260424T192248
CREATED:20240904T180908Z
LAST-MODIFIED:20240904T180908Z
UID:1244-1727465400-1727465400@waltriphspto.org
SUMMARY:Waltrip Volleyball vs Sterling
DESCRIPTION:Varsity
URL:https://waltriphspto.org/event/waltrip-volleyball-vs-sterling/
LOCATION:Delmar\, 2020 Mangum Rd\, Houston\, TX\, 77092\, United States
CATEGORIES:Sports,Volleyball
ATTACH;FMTTYPE=image/png:https://waltriphspto.org/wp-content/uploads/2024/07/vb2024.png
END:VEVENT
BEGIN:VEVENT
DTSTART;TZID=America/Chicago:20240924T193000
DTEND;TZID=America/Chicago:20240924T193000
DTSTAMP:20260424T192248
CREATED:20240904T180834Z
LAST-MODIFIED:20240904T180834Z
UID:1242-1727206200-1727206200@waltriphspto.org
SUMMARY:Waltrip Volleyball vs Madison
DESCRIPTION:Varsity
URL:https://waltriphspto.org/event/waltrip-volleyball-vs-madison/
LOCATION:Delmar\, 2020 Mangum Rd\, Houston\, TX\, 77092\, United States
CATEGORIES:Sports,Volleyball
ATTACH;FMTTYPE=image/png:https://waltriphspto.org/wp-content/uploads/2024/07/vb2024.png
END:VEVENT
BEGIN:VEVENT
DTSTART;TZID=America/Chicago:20240920T183000
DTEND;TZID=America/Chicago:20240920T183000
DTSTAMP:20260424T192248
CREATED:20240904T180758Z
LAST-MODIFIED:20240904T180758Z
UID:1239-1726857000-1726857000@waltriphspto.org
SUMMARY:Waltrip Volleyball vs Austin
DESCRIPTION:Varsity
URL:https://waltriphspto.org/event/waltrip-volleyball-vs-austin/
LOCATION:Barnett\, 6800 Fairway Dr\, Houston\, TX\, 77087\, United States
CATEGORIES:Sports,Volleyball
ATTACH;FMTTYPE=image/png:https://waltriphspto.org/wp-content/uploads/2024/07/vb2024.png
END:VEVENT
BEGIN:VEVENT
DTSTART;TZID=America/Chicago:20240917T163000
DTEND;TZID=America/Chicago:20240917T163000
DTSTAMP:20260424T192248
CREATED:20240904T180711Z
LAST-MODIFIED:20240904T180711Z
UID:1237-1726590600-1726590600@waltriphspto.org
SUMMARY:Waltrip Volleyball vs Carnegie
DESCRIPTION:Varsity
URL:https://waltriphspto.org/event/waltrip-volleyball-vs-carnegie/
LOCATION:Delmar\, 2020 Mangum Rd\, Houston\, TX\, 77092\, United States
CATEGORIES:Sports,Volleyball
ATTACH;FMTTYPE=image/png:https://waltriphspto.org/wp-content/uploads/2024/07/vb2024.png
END:VEVENT
BEGIN:VEVENT
DTSTART;TZID=America/Chicago:20240913T163000
DTEND;TZID=America/Chicago:20240913T163000
DTSTAMP:20260424T192248
CREATED:20240904T180540Z
LAST-MODIFIED:20240904T180540Z
UID:1233-1726245000-1726245000@waltriphspto.org
SUMMARY:Waltrip Volleyball vs Galena Park
DESCRIPTION:F/JV/V
URL:https://waltriphspto.org/event/waltrip-volleyball-vs-galena-park/
LOCATION:Galena Park\, 1000 Keene St\, Galena Park\, TX\, 77547\, United States
CATEGORIES:Sports,Volleyball
ATTACH;FMTTYPE=image/png:https://waltriphspto.org/wp-content/uploads/2024/07/vb2024.png
END:VEVENT
END:VCALENDAR