BEGIN:VCALENDAR
VERSION:2.0
PRODID:-//Waltrip High School PTO - ECPv6.15.20//NONSGML v1.0//EN
CALSCALE:GREGORIAN
METHOD:PUBLISH
X-WR-CALNAME:Waltrip High School PTO
X-ORIGINAL-URL:https://waltriphspto.org
X-WR-CALDESC:Events for Waltrip High School PTO
REFRESH-INTERVAL;VALUE=DURATION:PT1H
X-Robots-Tag:noindex
X-PUBLISHED-TTL:PT1H
BEGIN:VTIMEZONE
TZID:America/Chicago
BEGIN:DAYLIGHT
TZOFFSETFROM:-0600
TZOFFSETTO:-0500
TZNAME:CDT
DTSTART:20240310T080000
END:DAYLIGHT
BEGIN:STANDARD
TZOFFSETFROM:-0500
TZOFFSETTO:-0600
TZNAME:CST
DTSTART:20241103T070000
END:STANDARD
BEGIN:DAYLIGHT
TZOFFSETFROM:-0600
TZOFFSETTO:-0500
TZNAME:CDT
DTSTART:20250309T080000
END:DAYLIGHT
BEGIN:STANDARD
TZOFFSETFROM:-0500
TZOFFSETTO:-0600
TZNAME:CST
DTSTART:20251102T070000
END:STANDARD
BEGIN:DAYLIGHT
TZOFFSETFROM:-0600
TZOFFSETTO:-0500
TZNAME:CDT
DTSTART:20260308T080000
END:DAYLIGHT
BEGIN:STANDARD
TZOFFSETFROM:-0500
TZOFFSETTO:-0600
TZNAME:CST
DTSTART:20261101T070000
END:STANDARD
END:VTIMEZONE
BEGIN:VEVENT
DTSTART;TZID=America/Chicago:20250726T090000
DTEND;TZID=America/Chicago:20250726T110000
DTSTAMP:20260425T230106
CREATED:20250513T154457Z
LAST-MODIFIED:20250513T154457Z
UID:3085-1753520400-1753527600@waltriphspto.org
SUMMARY:2025 Ram Wrestling Camp
DESCRIPTION:Boys & Girls\nGrades 6 – 9\nSaturday\, July 26\, 2025 | 9 – 11am\nFree\n\nRegister: https://docs.google.com/forms/u/0/d/e/1FAIpQLScsRLu4Bnk-2JeLPTeN-XfV25OCgCPAGnXBRZ1LwIIfw4NfIQ/viewform
URL:https://waltriphspto.org/event/2025-ram-wrestling-camp/
LOCATION:Waltrip High School\, 1900 W. 34th\, Houston\, TX\, 77018
CATEGORIES:Summer Camps,Wrestling
END:VEVENT
END:VCALENDAR