BEGIN:VCALENDAR
VERSION:2.0
PRODID:-//Waltrip High School PTO - ECPv6.15.20//NONSGML v1.0//EN
CALSCALE:GREGORIAN
METHOD:PUBLISH
X-WR-CALNAME:Waltrip High School PTO
X-ORIGINAL-URL:https://waltriphspto.org
X-WR-CALDESC:Events for Waltrip High School PTO
REFRESH-INTERVAL;VALUE=DURATION:PT1H
X-Robots-Tag:noindex
X-PUBLISHED-TTL:PT1H
BEGIN:VTIMEZONE
TZID:America/Chicago
BEGIN:DAYLIGHT
TZOFFSETFROM:-0600
TZOFFSETTO:-0500
TZNAME:CDT
DTSTART:20240310T080000
END:DAYLIGHT
BEGIN:STANDARD
TZOFFSETFROM:-0500
TZOFFSETTO:-0600
TZNAME:CST
DTSTART:20241103T070000
END:STANDARD
BEGIN:DAYLIGHT
TZOFFSETFROM:-0600
TZOFFSETTO:-0500
TZNAME:CDT
DTSTART:20250309T080000
END:DAYLIGHT
BEGIN:STANDARD
TZOFFSETFROM:-0500
TZOFFSETTO:-0600
TZNAME:CST
DTSTART:20251102T070000
END:STANDARD
BEGIN:DAYLIGHT
TZOFFSETFROM:-0600
TZOFFSETTO:-0500
TZNAME:CDT
DTSTART:20260308T080000
END:DAYLIGHT
BEGIN:STANDARD
TZOFFSETFROM:-0500
TZOFFSETTO:-0600
TZNAME:CST
DTSTART:20261101T070000
END:STANDARD
END:VTIMEZONE
BEGIN:VEVENT
DTSTART;TZID=America/Chicago:20250609T090000
DTEND;TZID=America/Chicago:20250725T110000
DTSTAMP:20260425T230036
CREATED:20250513T154631Z
LAST-MODIFIED:20250513T154631Z
UID:3087-1749459600-1753441200@waltriphspto.org
SUMMARY:2025 SAC Camp
DESCRIPTION:Grades 6 – 12\nJune 9th – July 25th | 9 – 11am\nNo camp June 19th \, June 30th – July 4th\, July 21st or July 22nd\n$35\n\nRegister: https://docs.google.com/forms/u/0/d/e/1FAIpQLScsRLu4Bnk-2JeLPTeN-XfV25OCgCPAGnXBRZ1LwIIfw4NfIQ/viewform
URL:https://waltriphspto.org/event/2025-sac-camp/
LOCATION:Waltrip High School\, 1900 W. 34th\, Houston\, TX\, 77018
CATEGORIES:Sports,Summer Camps
END:VEVENT
END:VCALENDAR