BEGIN:VCALENDAR
VERSION:2.0
PRODID:-//Waltrip High School PTO - ECPv6.15.20//NONSGML v1.0//EN
CALSCALE:GREGORIAN
METHOD:PUBLISH
X-WR-CALNAME:Waltrip High School PTO
X-ORIGINAL-URL:https://waltriphspto.org
X-WR-CALDESC:Events for Waltrip High School PTO
REFRESH-INTERVAL;VALUE=DURATION:PT1H
X-Robots-Tag:noindex
X-PUBLISHED-TTL:PT1H
BEGIN:VTIMEZONE
TZID:America/Chicago
BEGIN:DAYLIGHT
TZOFFSETFROM:-0600
TZOFFSETTO:-0500
TZNAME:CDT
DTSTART:20240310T080000
END:DAYLIGHT
BEGIN:STANDARD
TZOFFSETFROM:-0500
TZOFFSETTO:-0600
TZNAME:CST
DTSTART:20241103T070000
END:STANDARD
BEGIN:DAYLIGHT
TZOFFSETFROM:-0600
TZOFFSETTO:-0500
TZNAME:CDT
DTSTART:20250309T080000
END:DAYLIGHT
BEGIN:STANDARD
TZOFFSETFROM:-0500
TZOFFSETTO:-0600
TZNAME:CST
DTSTART:20251102T070000
END:STANDARD
BEGIN:DAYLIGHT
TZOFFSETFROM:-0600
TZOFFSETTO:-0500
TZNAME:CDT
DTSTART:20260308T080000
END:DAYLIGHT
BEGIN:STANDARD
TZOFFSETFROM:-0500
TZOFFSETTO:-0600
TZNAME:CST
DTSTART:20261101T070000
END:STANDARD
END:VTIMEZONE
BEGIN:VEVENT
DTSTART;TZID=America/Chicago:20251112T000000
DTEND;TZID=America/Chicago:20251112T235959
DTSTAMP:20260425T083753
CREATED:20250903T181329Z
LAST-MODIFIED:20251103T153630Z
UID:4297-1762905600-1762991999@waltriphspto.org
SUMMARY:Ram Festival Days: Fall Festival
DESCRIPTION:
URL:https://waltriphspto.org/event/ram-festival-days-fall-festival/
LOCATION:TX
CATEGORIES:School Culture,Student Culture
ATTACH;FMTTYPE=image/webp:https://waltriphspto.org/wp-content/uploads/2025/10/8091e16a-1dbc-16a1-9a83-b6274762be73.webp
END:VEVENT
END:VCALENDAR