BEGIN:VCALENDAR
VERSION:2.0
PRODID:-//Waltrip High School PTO - ECPv6.15.20//NONSGML v1.0//EN
CALSCALE:GREGORIAN
METHOD:PUBLISH
X-WR-CALNAME:Waltrip High School PTO
X-ORIGINAL-URL:https://waltriphspto.org
X-WR-CALDESC:Events for Waltrip High School PTO
REFRESH-INTERVAL;VALUE=DURATION:PT1H
X-Robots-Tag:noindex
X-PUBLISHED-TTL:PT1H
BEGIN:VTIMEZONE
TZID:America/Chicago
BEGIN:DAYLIGHT
TZOFFSETFROM:-0600
TZOFFSETTO:-0500
TZNAME:CDT
DTSTART:20240310T080000
END:DAYLIGHT
BEGIN:STANDARD
TZOFFSETFROM:-0500
TZOFFSETTO:-0600
TZNAME:CST
DTSTART:20241103T070000
END:STANDARD
BEGIN:DAYLIGHT
TZOFFSETFROM:-0600
TZOFFSETTO:-0500
TZNAME:CDT
DTSTART:20250309T080000
END:DAYLIGHT
BEGIN:STANDARD
TZOFFSETFROM:-0500
TZOFFSETTO:-0600
TZNAME:CST
DTSTART:20251102T070000
END:STANDARD
BEGIN:DAYLIGHT
TZOFFSETFROM:-0600
TZOFFSETTO:-0500
TZNAME:CDT
DTSTART:20260308T080000
END:DAYLIGHT
BEGIN:STANDARD
TZOFFSETFROM:-0500
TZOFFSETTO:-0600
TZNAME:CST
DTSTART:20261101T070000
END:STANDARD
END:VTIMEZONE
BEGIN:VEVENT
DTSTART;TZID=America/Chicago:20251121T170000
DTEND;TZID=America/Chicago:20251121T190000
DTSTAMP:20260425T103744
CREATED:20251112T220931Z
LAST-MODIFIED:20251118T144500Z
UID:5557-1763744400-1763751600@waltriphspto.org
SUMMARY:Waltrip Staff Social Mixer
DESCRIPTION:PLEASE RSVP BELOW \nWaltrip Teachers and Staff\, you’re invited to the Waltrip Staff Social Mixer! \nThe Waltrip High School PTO is so excited to celebrate you and all your incredible hard work! \nPlease join us for a relaxed evening to unwind and socialize with your colleagues. We will be providing complimentary drinks and light bites to thank you for everything you do. \nThe event is hosted at Union Kitchen\, which is conveniently located right across the street from Waltrip! \nThis gathering is exclusively for Waltrip Teachers and Staff\, joined by a small number of PTO hosts. \nWe look forward to celebrating you! Please RSVP below so we can get an accurate headcount. \n\n\n                \n                        \n                             \n                        \n                        Name(Required)\n                            \n                            \n                                                    First\n                                                    \n                                                \n                            \n                            \n                                                            Last\n                                                            \n                                                        \n                            \n                        Email(Required)\n                                \n                                    Enter Email\n                                    \n                                \n                                \n                                    Confirm Email\n                                    \n                                \n                                \n                            Will you be attending the Waltrip Staff Social Mixer?\n			\n					\n					Yes\, I will attend.\n			\n			\n					\n					No\, I will not be able to attend.
URL:https://waltriphspto.org/event/waltrip-staff-social-mixer/
LOCATION:Union Kitchen\, 3452 Ella Blvd.\, Houston\, TX\, 77018\, United States
CATEGORIES:School Culture,Staff Appreciation
ATTACH;FMTTYPE=image/webp:https://waltriphspto.org/wp-content/uploads/2025/11/Waltrip-Staff-Happy-Hour.webp
END:VEVENT
END:VCALENDAR