BEGIN:VCALENDAR
VERSION:2.0
PRODID:-//Waltrip High School PTO - ECPv6.15.20//NONSGML v1.0//EN
CALSCALE:GREGORIAN
METHOD:PUBLISH
X-ORIGINAL-URL:https://waltriphspto.org
X-WR-CALDESC:Events for Waltrip High School PTO
REFRESH-INTERVAL;VALUE=DURATION:PT1H
X-Robots-Tag:noindex
X-PUBLISHED-TTL:PT1H
BEGIN:VTIMEZONE
TZID:America/Chicago
BEGIN:DAYLIGHT
TZOFFSETFROM:-0600
TZOFFSETTO:-0500
TZNAME:CDT
DTSTART:20230312T080000
END:DAYLIGHT
BEGIN:STANDARD
TZOFFSETFROM:-0500
TZOFFSETTO:-0600
TZNAME:CST
DTSTART:20231105T070000
END:STANDARD
BEGIN:DAYLIGHT
TZOFFSETFROM:-0600
TZOFFSETTO:-0500
TZNAME:CDT
DTSTART:20240310T080000
END:DAYLIGHT
BEGIN:STANDARD
TZOFFSETFROM:-0500
TZOFFSETTO:-0600
TZNAME:CST
DTSTART:20241103T070000
END:STANDARD
BEGIN:DAYLIGHT
TZOFFSETFROM:-0600
TZOFFSETTO:-0500
TZNAME:CDT
DTSTART:20250309T080000
END:DAYLIGHT
BEGIN:STANDARD
TZOFFSETFROM:-0500
TZOFFSETTO:-0600
TZNAME:CST
DTSTART:20251102T070000
END:STANDARD
END:VTIMEZONE
BEGIN:VEVENT
DTSTART;TZID=America/Chicago:20240810T000000
DTEND;TZID=America/Chicago:20240810T235959
DTSTAMP:20260424T214614
CREATED:20240701T200041Z
LAST-MODIFIED:20240702T144548Z
UID:492-1723248000-1723334399@waltriphspto.org
SUMMARY:Waltrip Volleyball - Washington Tourney
DESCRIPTION:(A) Varsity TBA
URL:https://waltriphspto.org/event/waltrip-volleyball-washington-tourney/
LOCATION:TBD
CATEGORIES:Sports
ATTACH;FMTTYPE=image/png:https://waltriphspto.org/wp-content/uploads/2024/07/vb2024.png
END:VEVENT
BEGIN:VEVENT
DTSTART;TZID=America/Chicago:20240809T000000
DTEND;TZID=America/Chicago:20240809T235959
DTSTAMP:20260424T214614
CREATED:20240701T195849Z
LAST-MODIFIED:20240702T144551Z
UID:488-1723161600-1723247999@waltriphspto.org
SUMMARY:Waltrip Volleyball - Scarborough Scrimmage
DESCRIPTION:(A) \n4/5/6 \nF/JV/V
URL:https://waltriphspto.org/event/waltrip-volleyball-scarborough-scrimmage/
LOCATION:TBD
CATEGORIES:Sports,Volleyball
ATTACH;FMTTYPE=image/png:https://waltriphspto.org/wp-content/uploads/2024/07/vb2024.png
END:VEVENT
END:VCALENDAR