BEGIN:VCALENDAR
VERSION:2.0
PRODID:-//Waltrip High School PTO - ECPv6.15.20//NONSGML v1.0//EN
CALSCALE:GREGORIAN
METHOD:PUBLISH
X-ORIGINAL-URL:https://waltriphspto.org
X-WR-CALDESC:Events for Waltrip High School PTO
REFRESH-INTERVAL;VALUE=DURATION:PT1H
X-Robots-Tag:noindex
X-PUBLISHED-TTL:PT1H
BEGIN:VTIMEZONE
TZID:America/Chicago
BEGIN:DAYLIGHT
TZOFFSETFROM:-0600
TZOFFSETTO:-0500
TZNAME:CDT
DTSTART:20240310T080000
END:DAYLIGHT
BEGIN:STANDARD
TZOFFSETFROM:-0500
TZOFFSETTO:-0600
TZNAME:CST
DTSTART:20241103T070000
END:STANDARD
BEGIN:DAYLIGHT
TZOFFSETFROM:-0600
TZOFFSETTO:-0500
TZNAME:CDT
DTSTART:20250309T080000
END:DAYLIGHT
BEGIN:STANDARD
TZOFFSETFROM:-0500
TZOFFSETTO:-0600
TZNAME:CST
DTSTART:20251102T070000
END:STANDARD
BEGIN:DAYLIGHT
TZOFFSETFROM:-0600
TZOFFSETTO:-0500
TZNAME:CDT
DTSTART:20260308T080000
END:DAYLIGHT
BEGIN:STANDARD
TZOFFSETFROM:-0500
TZOFFSETTO:-0600
TZNAME:CST
DTSTART:20261101T070000
END:STANDARD
END:VTIMEZONE
BEGIN:VEVENT
DTSTART;TZID=America/Chicago:20250223T140000
DTEND;TZID=America/Chicago:20250223T140000
DTSTAMP:20260425T163310
CREATED:20241202T162333Z
LAST-MODIFIED:20250203T170532Z
UID:2161-1740319200-1740319200@waltriphspto.org
SUMMARY:Winter Wine-Down: Ladies Brunch & Wine Tasting
DESCRIPTION:Wine Tasting with David Maggard\, “The Wine Man” where you will have the opportunity to taste at least twelve fine wines that are not available locally. You will learn by exploring the possibilities of food and wine pairings\, the different kinds of grapes and how to store and serve wine. Holiday brunch and bubbles included. \nAdults Only \nHosted by Michelle Schoene\, Dorothy Leahy\, and Kat Creech \n4021 Alba 77018\nFebrurary 23\, 2024 at 2pm \nGet your tickets now: https://waltriphspto.org/product/holidays-uncorked-ladies-brunch-wine-tasting/
URL:https://waltriphspto.org/event/winter-wine-down-ladies-brunch-wine-tasting/
CATEGORIES:Fundraising,Socials
ATTACH;FMTTYPE=image/png:https://waltriphspto.org/wp-content/uploads/2024/11/wine-tasting-2.png
END:VEVENT
END:VCALENDAR