BEGIN:VCALENDAR
VERSION:2.0
PRODID:-//Waltrip High School PTO - ECPv6.15.20//NONSGML v1.0//EN
CALSCALE:GREGORIAN
METHOD:PUBLISH
X-WR-CALNAME:Waltrip High School PTO
X-ORIGINAL-URL:https://waltriphspto.org
X-WR-CALDESC:Events for Waltrip High School PTO
REFRESH-INTERVAL;VALUE=DURATION:PT1H
X-Robots-Tag:noindex
X-PUBLISHED-TTL:PT1H
BEGIN:VTIMEZONE
TZID:America/Chicago
BEGIN:DAYLIGHT
TZOFFSETFROM:-0600
TZOFFSETTO:-0500
TZNAME:CDT
DTSTART:20240310T080000
END:DAYLIGHT
BEGIN:STANDARD
TZOFFSETFROM:-0500
TZOFFSETTO:-0600
TZNAME:CST
DTSTART:20241103T070000
END:STANDARD
BEGIN:DAYLIGHT
TZOFFSETFROM:-0600
TZOFFSETTO:-0500
TZNAME:CDT
DTSTART:20250309T080000
END:DAYLIGHT
BEGIN:STANDARD
TZOFFSETFROM:-0500
TZOFFSETTO:-0600
TZNAME:CST
DTSTART:20251102T070000
END:STANDARD
BEGIN:DAYLIGHT
TZOFFSETFROM:-0600
TZOFFSETTO:-0500
TZNAME:CDT
DTSTART:20260308T080000
END:DAYLIGHT
BEGIN:STANDARD
TZOFFSETFROM:-0500
TZOFFSETTO:-0600
TZNAME:CST
DTSTART:20261101T070000
END:STANDARD
END:VTIMEZONE
BEGIN:VEVENT
DTSTART;TZID=America/Chicago:20250125T180000
DTEND;TZID=America/Chicago:20250125T180000
DTSTAMP:20260425T175717
CREATED:20241202T161431Z
LAST-MODIFIED:20241202T161648Z
UID:2152-1737828000-1737828000@waltriphspto.org
SUMMARY:Charcuter-Whee!!!
DESCRIPTION:Hosted by Michelle Schoene\, Lynanne Foster\, and Yanira Dudley \nJoin us for a fun and casual evening as we learn the art of charcuterie with local superstar Cassie Lemoine of Cheese by Cassie! Enjoy adult refreshments\, fancy mocktails\, and delectable desserts\, and leave with a special thank-you gift. We can’t wait to craft something fabulous with you! \nAdults only \nThe home of Michelle Schoene\n1325 Candlelight Lane \nJanuary 25\, 2025 at 6pm \nGet your tickets here: https://waltriphspto.org/product/charcuter-whee/
URL:https://waltriphspto.org/event/charcuter-whee/
CATEGORIES:Fundraising,Socials
ATTACH;FMTTYPE=image/png:https://waltriphspto.org/wp-content/uploads/2024/11/Charcuter-Whee.png
END:VEVENT
END:VCALENDAR