BEGIN:VCALENDAR
VERSION:2.0
PRODID:-//Waltrip High School PTO - ECPv6.15.20//NONSGML v1.0//EN
CALSCALE:GREGORIAN
METHOD:PUBLISH
X-WR-CALNAME:Waltrip High School PTO
X-ORIGINAL-URL:https://waltriphspto.org
X-WR-CALDESC:Events for Waltrip High School PTO
REFRESH-INTERVAL;VALUE=DURATION:PT1H
X-Robots-Tag:noindex
X-PUBLISHED-TTL:PT1H
BEGIN:VTIMEZONE
TZID:America/Chicago
BEGIN:DAYLIGHT
TZOFFSETFROM:-0600
TZOFFSETTO:-0500
TZNAME:CDT
DTSTART:20250309T080000
END:DAYLIGHT
BEGIN:STANDARD
TZOFFSETFROM:-0500
TZOFFSETTO:-0600
TZNAME:CST
DTSTART:20251102T070000
END:STANDARD
BEGIN:DAYLIGHT
TZOFFSETFROM:-0600
TZOFFSETTO:-0500
TZNAME:CDT
DTSTART:20260308T080000
END:DAYLIGHT
BEGIN:STANDARD
TZOFFSETFROM:-0500
TZOFFSETTO:-0600
TZNAME:CST
DTSTART:20261101T070000
END:STANDARD
BEGIN:DAYLIGHT
TZOFFSETFROM:-0600
TZOFFSETTO:-0500
TZNAME:CDT
DTSTART:20270314T080000
END:DAYLIGHT
BEGIN:STANDARD
TZOFFSETFROM:-0500
TZOFFSETTO:-0600
TZNAME:CST
DTSTART:20271107T070000
END:STANDARD
END:VTIMEZONE
BEGIN:VEVENT
DTSTART;TZID=America/Chicago:20260131T180000
DTEND;TZID=America/Chicago:20260131T180000
DTSTAMP:20260424T190023
CREATED:20260108T203517Z
LAST-MODIFIED:20260108T203517Z
UID:5730-1769882400-1769882400@waltriphspto.org
SUMMARY:2nd Annual Charcuter-whee!!! (Jazz on 34th Social)
DESCRIPTION:Adults only – Hosted by Michelle Schoene\, Lynanne Foster\, Yanira Dudley\, and Rachel Riebeling. \nJoin us for a fun and casual evening as we enjoy the art of charcuterie with one of our local superstars from Cheese by Cassie! Enjoy adult refreshments\, fancy mocktails\, and delectable desserts\, and leave with a special thank-you gift. We can’t wait to craft something fabulous with you!
URL:https://waltriphspto.org/event/2nd-annual-charcuter-whee/
CATEGORIES:Socials
ATTACH;FMTTYPE=image/webp:https://waltriphspto.org/wp-content/uploads/2026/01/Charcuter-Whee-2.webp
END:VEVENT
END:VCALENDAR