BEGIN:VCALENDAR
VERSION:2.0
PRODID:-//Waltrip High School PTO - ECPv6.15.20//NONSGML v1.0//EN
CALSCALE:GREGORIAN
METHOD:PUBLISH
X-WR-CALNAME:Waltrip High School PTO
X-ORIGINAL-URL:https://waltriphspto.org
X-WR-CALDESC:Events for Waltrip High School PTO
REFRESH-INTERVAL;VALUE=DURATION:PT1H
X-Robots-Tag:noindex
X-PUBLISHED-TTL:PT1H
BEGIN:VTIMEZONE
TZID:America/Chicago
BEGIN:DAYLIGHT
TZOFFSETFROM:-0600
TZOFFSETTO:-0500
TZNAME:CDT
DTSTART:20240310T080000
END:DAYLIGHT
BEGIN:STANDARD
TZOFFSETFROM:-0500
TZOFFSETTO:-0600
TZNAME:CST
DTSTART:20241103T070000
END:STANDARD
BEGIN:DAYLIGHT
TZOFFSETFROM:-0600
TZOFFSETTO:-0500
TZNAME:CDT
DTSTART:20250309T080000
END:DAYLIGHT
BEGIN:STANDARD
TZOFFSETFROM:-0500
TZOFFSETTO:-0600
TZNAME:CST
DTSTART:20251102T070000
END:STANDARD
BEGIN:DAYLIGHT
TZOFFSETFROM:-0600
TZOFFSETTO:-0500
TZNAME:CDT
DTSTART:20260308T080000
END:DAYLIGHT
BEGIN:STANDARD
TZOFFSETFROM:-0500
TZOFFSETTO:-0600
TZNAME:CST
DTSTART:20261101T070000
END:STANDARD
END:VTIMEZONE
BEGIN:VEVENT
DTSTART;TZID=America/Chicago:20250321T000000
DTEND;TZID=America/Chicago:20250321T000000
DTSTAMP:20260425T131115
CREATED:20241202T164534Z
LAST-MODIFIED:20241202T164722Z
UID:2169-1742515200-1742515200@waltriphspto.org
SUMMARY:Shepherd Park Plaza Progressive Dinner
DESCRIPTION:Jump from house-to-house enjoying apps\, entrees and dessert with drinks along the way! \nAdults Only \nHosted by Suzy & Victor D’Souza\, Angie Gunden & Seth Kauffman\, Carrie & Warren Jaeger \nMarch 21\, 2025 \nGet your tickets now: https://waltriphspto.org/product/shepherd-park-plaza-progressive-dinner/
URL:https://waltriphspto.org/event/shepherd-park-plaza-progressive-dinner/
CATEGORIES:Fundraising,Socials
ATTACH;FMTTYPE=image/png:https://waltriphspto.org/wp-content/uploads/2024/11/8.png
END:VEVENT
END:VCALENDAR