BEGIN:VCALENDAR
VERSION:2.0
PRODID:-//Waltrip High School PTO - ECPv6.15.20//NONSGML v1.0//EN
CALSCALE:GREGORIAN
METHOD:PUBLISH
X-ORIGINAL-URL:https://waltriphspto.org
X-WR-CALDESC:Events for Waltrip High School PTO
REFRESH-INTERVAL;VALUE=DURATION:PT1H
X-Robots-Tag:noindex
X-PUBLISHED-TTL:PT1H
BEGIN:VTIMEZONE
TZID:America/Chicago
BEGIN:DAYLIGHT
TZOFFSETFROM:-0600
TZOFFSETTO:-0500
TZNAME:CDT
DTSTART:20240310T080000
END:DAYLIGHT
BEGIN:STANDARD
TZOFFSETFROM:-0500
TZOFFSETTO:-0600
TZNAME:CST
DTSTART:20241103T070000
END:STANDARD
BEGIN:DAYLIGHT
TZOFFSETFROM:-0600
TZOFFSETTO:-0500
TZNAME:CDT
DTSTART:20250309T080000
END:DAYLIGHT
BEGIN:STANDARD
TZOFFSETFROM:-0500
TZOFFSETTO:-0600
TZNAME:CST
DTSTART:20251102T070000
END:STANDARD
BEGIN:DAYLIGHT
TZOFFSETFROM:-0600
TZOFFSETTO:-0500
TZNAME:CDT
DTSTART:20260308T080000
END:DAYLIGHT
BEGIN:STANDARD
TZOFFSETFROM:-0500
TZOFFSETTO:-0600
TZNAME:CST
DTSTART:20261101T070000
END:STANDARD
END:VTIMEZONE
BEGIN:VEVENT
DTSTART;TZID=America/Chicago:20250111T190000
DTEND;TZID=America/Chicago:20250111T190000
DTSTAMP:20260425T163047
CREATED:20241202T164111Z
LAST-MODIFIED:20241202T164206Z
UID:2167-1736622000-1736622000@waltriphspto.org
SUMMARY:Post Holiday Regift Exchange
DESCRIPTION:Got a well-meaning but unwanted gift? That sweater from your mother-in-law that’s “not quite your style” or a duplicate kitchen gadget from Aunt Susan? Give it new life at our “Why Did They Give Me This?” Holiday Re-Gift Exchange! \nJoin us for an evening of laughter\, stories\, and creative gift-swapping. We’ll be serving delicious hors d’oeuvres and festive drinks. \nAdults Only \nHosted by Erin Field\, Angie Gunden\, Brooke Persyn\, Carrie Jaeger \n1360 Wakefield Drive\nJanuary 11\, 2025 at 7 pm \nGet your tickets now: https://waltriphspto.org/product/post-holiday-regift-exchange/
URL:https://waltriphspto.org/event/post-holiday-regift-exchange/
CATEGORIES:Fundraising,Socials
ATTACH;FMTTYPE=image/png:https://waltriphspto.org/wp-content/uploads/2024/11/post-holiday-gift-exchange.png
END:VEVENT
BEGIN:VEVENT
DTSTART;TZID=America/Chicago:20250116T180000
DTEND;TZID=America/Chicago:20250116T180000
DTSTAMP:20260425T163047
CREATED:20241202T163738Z
LAST-MODIFIED:20250108T190303Z
UID:2165-1737050400-1737050400@waltriphspto.org
SUMMARY:Let Your Babies Grow Up to Be Cowboys (or Cowgirls!)
DESCRIPTION:Make sure your Texas teen knows how to two-step—it’s a southern life skill! Enjoy some quality time with your kiddo while tearing up the dance floor. Drinks and snacks will be provided! \nOpen to all Waltrip families\nLimited spots available: 20 couples. \nHosted by Erin Field & Carrie Jaeger \nJanuary 16\, 2025 at 6 pm \nGet your tickets now: https://waltriphspto.org/product/let-your-babies-grow-up-to-be-cowboys-or-cowgirls/
URL:https://waltriphspto.org/event/let-your-babies-grow-up-to-be-cowboys-or-cowgirls/
CATEGORIES:Fundraising,Socials
ATTACH;FMTTYPE=image/png:https://waltriphspto.org/wp-content/uploads/2024/11/two-step-1.png
END:VEVENT
BEGIN:VEVENT
DTSTART;TZID=America/Chicago:20250125T180000
DTEND;TZID=America/Chicago:20250125T180000
DTSTAMP:20260425T163047
CREATED:20241202T161431Z
LAST-MODIFIED:20241202T161648Z
UID:2152-1737828000-1737828000@waltriphspto.org
SUMMARY:Charcuter-Whee!!!
DESCRIPTION:Hosted by Michelle Schoene\, Lynanne Foster\, and Yanira Dudley \nJoin us for a fun and casual evening as we learn the art of charcuterie with local superstar Cassie Lemoine of Cheese by Cassie! Enjoy adult refreshments\, fancy mocktails\, and delectable desserts\, and leave with a special thank-you gift. We can’t wait to craft something fabulous with you! \nAdults only \nThe home of Michelle Schoene\n1325 Candlelight Lane \nJanuary 25\, 2025 at 6pm \nGet your tickets here: https://waltriphspto.org/product/charcuter-whee/
URL:https://waltriphspto.org/event/charcuter-whee/
CATEGORIES:Fundraising,Socials
ATTACH;FMTTYPE=image/png:https://waltriphspto.org/wp-content/uploads/2024/11/Charcuter-Whee.png
END:VEVENT
END:VCALENDAR