BEGIN:VCALENDAR
VERSION:2.0
PRODID:-//Waltrip High School PTO - ECPv6.15.20//NONSGML v1.0//EN
CALSCALE:GREGORIAN
METHOD:PUBLISH
X-WR-CALNAME:Waltrip High School PTO
X-ORIGINAL-URL:https://waltriphspto.org
X-WR-CALDESC:Events for Waltrip High School PTO
REFRESH-INTERVAL;VALUE=DURATION:PT1H
X-Robots-Tag:noindex
X-PUBLISHED-TTL:PT1H
BEGIN:VTIMEZONE
TZID:America/Chicago
BEGIN:DAYLIGHT
TZOFFSETFROM:-0600
TZOFFSETTO:-0500
TZNAME:CDT
DTSTART:20240310T080000
END:DAYLIGHT
BEGIN:STANDARD
TZOFFSETFROM:-0500
TZOFFSETTO:-0600
TZNAME:CST
DTSTART:20241103T070000
END:STANDARD
BEGIN:DAYLIGHT
TZOFFSETFROM:-0600
TZOFFSETTO:-0500
TZNAME:CDT
DTSTART:20250309T080000
END:DAYLIGHT
BEGIN:STANDARD
TZOFFSETFROM:-0500
TZOFFSETTO:-0600
TZNAME:CST
DTSTART:20251102T070000
END:STANDARD
BEGIN:DAYLIGHT
TZOFFSETFROM:-0600
TZOFFSETTO:-0500
TZNAME:CDT
DTSTART:20260308T080000
END:DAYLIGHT
BEGIN:STANDARD
TZOFFSETFROM:-0500
TZOFFSETTO:-0600
TZNAME:CST
DTSTART:20261101T070000
END:STANDARD
END:VTIMEZONE
BEGIN:VEVENT
DTSTART;TZID=America/Chicago:20250628T090000
DTEND;TZID=America/Chicago:20250628T110000
DTSTAMP:20260424T232444
CREATED:20250513T154355Z
LAST-MODIFIED:20250513T154355Z
UID:3083-1751101200-1751108400@waltriphspto.org
SUMMARY:2025 Ram Soccer Camp
DESCRIPTION:Boys & Girls\nGrades K – 9\nSaturday\, June 28\, 2025 | 9 – 11am\nFree\n\nRegister: https://docs.google.com/forms/u/0/d/e/1FAIpQLScsRLu4Bnk-2JeLPTeN-XfV25OCgCPAGnXBRZ1LwIIfw4NfIQ/viewform
URL:https://waltriphspto.org/event/2025-ram-soccer-camp/
LOCATION:Waltrip High School\, 1900 W. 34th\, Houston\, TX\, 77018
CATEGORIES:Soccer,Summer Camps
END:VEVENT
BEGIN:VEVENT
DTSTART;TZID=America/Chicago:20250208T100000
DTEND;TZID=America/Chicago:20250208T100000
DTSTAMP:20260424T232444
CREATED:20241217T161945Z
LAST-MODIFIED:20241217T161952Z
UID:2318-1739008800-1739008800@waltriphspto.org
SUMMARY:Varsity Boys Soccer vs Sterling
DESCRIPTION:Away game
URL:https://waltriphspto.org/event/varsity-boys-soccer-vs-sterling-2/
LOCATION:Barnett\, 6800 Fairway Dr\, Houston\, TX\, 77087\, United States
CATEGORIES:Soccer,Sports
ATTACH;FMTTYPE=image/png:https://waltriphspto.org/wp-content/uploads/2024/12/Waltrip-Boys-1.png
END:VEVENT
BEGIN:VEVENT
DTSTART;TZID=America/Chicago:20250204T194500
DTEND;TZID=America/Chicago:20250204T194500
DTSTAMP:20260424T232444
CREATED:20241217T161718Z
LAST-MODIFIED:20241217T161747Z
UID:2315-1738698300-1738698300@waltriphspto.org
SUMMARY:Varsity Boys Soccer vs Madison
DESCRIPTION:Away game
URL:https://waltriphspto.org/event/varsity-boys-soccer-vs-madison/
LOCATION:Cowart\, 10725 Mesa Dr\, Houston\, 77078\, United States
CATEGORIES:Soccer,Sports
ATTACH;FMTTYPE=image/png:https://waltriphspto.org/wp-content/uploads/2024/12/Waltrip-Boys-1.png
END:VEVENT
BEGIN:VEVENT
DTSTART;TZID=America/Chicago:20250201T100000
DTEND;TZID=America/Chicago:20250201T100000
DTSTAMP:20260424T232444
CREATED:20241217T161514Z
LAST-MODIFIED:20241217T161514Z
UID:2313-1738404000-1738404000@waltriphspto.org
SUMMARY:Varsity Boys Soccer vs Austin
DESCRIPTION:Away game
URL:https://waltriphspto.org/event/varsity-boys-soccer-vs-austin/
LOCATION:Barnett\, 6800 Fairway Dr\, Houston\, TX\, 77087\, United States
CATEGORIES:Soccer,Sports
ATTACH;FMTTYPE=image/png:https://waltriphspto.org/wp-content/uploads/2024/12/Waltrip-Boys-1.png
END:VEVENT
BEGIN:VEVENT
DTSTART;TZID=America/Chicago:20250129T194500
DTEND;TZID=America/Chicago:20250129T194500
DTSTAMP:20260424T232444
CREATED:20241217T161416Z
LAST-MODIFIED:20241217T161422Z
UID:2311-1738179900-1738179900@waltriphspto.org
SUMMARY:Varsity Boys Soccer vs Carnegie
DESCRIPTION:Home game
URL:https://waltriphspto.org/event/varsity-boys-soccer-vs-carnegie/
LOCATION:Delmar\, 2020 Mangum Rd\, Houston\, TX\, 77092\, United States
CATEGORIES:Soccer,Sports
ATTACH;FMTTYPE=image/png:https://waltriphspto.org/wp-content/uploads/2024/12/Waltrip-Boys-1.png
END:VEVENT
BEGIN:VEVENT
DTSTART;TZID=America/Chicago:20250124T193000
DTEND;TZID=America/Chicago:20250124T193000
DTSTAMP:20260424T232444
CREATED:20241217T161313Z
LAST-MODIFIED:20241217T161323Z
UID:2308-1737747000-1737747000@waltriphspto.org
SUMMARY:Varsity Boys Soccer vs Galena Park
DESCRIPTION:Away game
URL:https://waltriphspto.org/event/varsity-boys-soccer-vs-galena-park/
LOCATION:Galena Park\, 1000 Keene St\, Galena Park\, TX\, 77547\, United States
CATEGORIES:Soccer,Sports
ATTACH;FMTTYPE=image/png:https://waltriphspto.org/wp-content/uploads/2024/12/Waltrip-Boys-1.png
END:VEVENT
BEGIN:VEVENT
DTSTART;TZID=America/Chicago:20250122T200000
DTEND;TZID=America/Chicago:20250122T200000
DTSTAMP:20260424T232444
CREATED:20241217T161201Z
LAST-MODIFIED:20241217T161209Z
UID:2306-1737576000-1737576000@waltriphspto.org
SUMMARY:Varsity Boys Soccer vs Sharpstown
DESCRIPTION:Home game
URL:https://waltriphspto.org/event/varsity-boys-soccer-vs-sharpstown/
LOCATION:Delmar\, 2020 Mangum Rd\, Houston\, TX\, 77092\, United States
CATEGORIES:Soccer,Sports
ATTACH;FMTTYPE=image/png:https://waltriphspto.org/wp-content/uploads/2024/12/Waltrip-Boys-1.png
END:VEVENT
BEGIN:VEVENT
DTSTART;TZID=America/Chicago:20250117T194500
DTEND;TZID=America/Chicago:20250117T194500
DTSTAMP:20260424T232444
CREATED:20241217T160735Z
LAST-MODIFIED:20241217T161011Z
UID:2301-1737143100-1737143100@waltriphspto.org
SUMMARY:Varsity Boys Soccer vs Westbury
DESCRIPTION:Away game
URL:https://waltriphspto.org/event/varsity-boys-soccer-vs-westbury/
LOCATION:Butler\, 13755 S Main St\, Houston\, 77035\, United States
CATEGORIES:Soccer,Sports
ATTACH;FMTTYPE=image/png:https://waltriphspto.org/wp-content/uploads/2024/12/Waltrip-Boys-1.png
END:VEVENT
BEGIN:VEVENT
DTSTART;TZID=America/Chicago:20250114T190000
DTEND;TZID=America/Chicago:20250114T190000
DTSTAMP:20260424T232444
CREATED:20241217T160646Z
LAST-MODIFIED:20241217T161044Z
UID:2298-1736881200-1736881200@waltriphspto.org
SUMMARY:Varsity Boys Soccer vs Spring Woods
DESCRIPTION:Away game
URL:https://waltriphspto.org/event/varsity-boys-soccer-vs-spring-woods/
LOCATION:Spring Woods\, 2045 Gessner Rd\, Houston\, 77080\, United States
CATEGORIES:Soccer,Sports
ATTACH;FMTTYPE=image/png:https://waltriphspto.org/wp-content/uploads/2024/12/Waltrip-Boys-1.png
END:VEVENT
BEGIN:VEVENT
DTSTART;TZID=America/Chicago:20250110T163000
DTEND;TZID=America/Chicago:20250110T163000
DTSTAMP:20260424T232444
CREATED:20241217T160514Z
LAST-MODIFIED:20241217T161047Z
UID:2296-1736526600-1736526600@waltriphspto.org
SUMMARY:Varsity Boys Soccer vs Milby
DESCRIPTION:Away game
URL:https://waltriphspto.org/event/varsity-boys-soccer-vs-milby/
LOCATION:Barnett\, 6800 Fairway Dr\, Houston\, TX\, 77087\, United States
CATEGORIES:Soccer,Sports
ATTACH;FMTTYPE=image/png:https://waltriphspto.org/wp-content/uploads/2024/12/Waltrip-Boys-1.png
END:VEVENT
BEGIN:VEVENT
DTSTART;TZID=America/Chicago:20250107T180000
DTEND;TZID=America/Chicago:20250107T180000
DTSTAMP:20260424T232444
CREATED:20241217T160421Z
LAST-MODIFIED:20241217T161049Z
UID:2293-1736272800-1736272800@waltriphspto.org
SUMMARY:Varsity Boys Soccer vs Sterling
DESCRIPTION:Away game
URL:https://waltriphspto.org/event/varsity-boys-soccer-vs-sterling/
LOCATION:Barnett\, 6800 Fairway Dr\, Houston\, TX\, 77087\, United States
CATEGORIES:Soccer,Sports
ATTACH;FMTTYPE=image/png:https://waltriphspto.org/wp-content/uploads/2024/12/Waltrip-Boys-1.png
END:VEVENT
END:VCALENDAR