BEGIN:VCALENDAR
VERSION:2.0
PRODID:-//Waltrip High School PTO - ECPv6.15.20//NONSGML v1.0//EN
CALSCALE:GREGORIAN
METHOD:PUBLISH
X-ORIGINAL-URL:https://waltriphspto.org
X-WR-CALDESC:Events for Waltrip High School PTO
REFRESH-INTERVAL;VALUE=DURATION:PT1H
X-Robots-Tag:noindex
X-PUBLISHED-TTL:PT1H
BEGIN:VTIMEZONE
TZID:America/Chicago
BEGIN:DAYLIGHT
TZOFFSETFROM:-0600
TZOFFSETTO:-0500
TZNAME:CDT
DTSTART:20230312T080000
END:DAYLIGHT
BEGIN:STANDARD
TZOFFSETFROM:-0500
TZOFFSETTO:-0600
TZNAME:CST
DTSTART:20231105T070000
END:STANDARD
BEGIN:DAYLIGHT
TZOFFSETFROM:-0600
TZOFFSETTO:-0500
TZNAME:CDT
DTSTART:20240310T080000
END:DAYLIGHT
BEGIN:STANDARD
TZOFFSETFROM:-0500
TZOFFSETTO:-0600
TZNAME:CST
DTSTART:20241103T070000
END:STANDARD
BEGIN:DAYLIGHT
TZOFFSETFROM:-0600
TZOFFSETTO:-0500
TZNAME:CDT
DTSTART:20250309T080000
END:DAYLIGHT
BEGIN:STANDARD
TZOFFSETFROM:-0500
TZOFFSETTO:-0600
TZNAME:CST
DTSTART:20251102T070000
END:STANDARD
BEGIN:DAYLIGHT
TZOFFSETFROM:-0600
TZOFFSETTO:-0500
TZNAME:CDT
DTSTART:20260308T080000
END:DAYLIGHT
BEGIN:STANDARD
TZOFFSETFROM:-0500
TZOFFSETTO:-0600
TZNAME:CST
DTSTART:20261101T070000
END:STANDARD
BEGIN:DAYLIGHT
TZOFFSETFROM:-0600
TZOFFSETTO:-0500
TZNAME:CDT
DTSTART:20270314T080000
END:DAYLIGHT
BEGIN:STANDARD
TZOFFSETFROM:-0500
TZOFFSETTO:-0600
TZNAME:CST
DTSTART:20271107T070000
END:STANDARD
END:VTIMEZONE
BEGIN:VEVENT
DTSTART;TZID=America/Chicago:20260411T090000
DTEND;TZID=America/Chicago:20260411T140000
DTSTAMP:20260424T135237
CREATED:20260401T015940Z
LAST-MODIFIED:20260401T015940Z
UID:6135-1775898000-1775916000@waltriphspto.org
SUMMARY:Project Prom 2026
DESCRIPTION:Need a little help getting prom-ready? We’ve got you covered! Project Prom is here to help you find the perfect attire for your special night—at no cost to you. \nMake an appointment by scanning the QR code\, emailing Ms. Gatica at Jennifer.Gatica@houstonisd.org\, or stop by the Project Prom table during lunch on April 6th!
URL:https://waltriphspto.org/event/project-prom-2026/
LOCATION:Sam Houston High School\, 9400 Irvington Blvd.\, Houston\, TX\, 77076\, United States
CATEGORIES:School Culture,Student Culture
ATTACH;FMTTYPE=image/webp:https://waltriphspto.org/wp-content/uploads/2026/03/Project-Prom-1.webp
END:VEVENT
BEGIN:VEVENT
DTSTART;TZID=America/Chicago:20260327T000000
DTEND;TZID=America/Chicago:20260327T235959
DTSTAMP:20260424T135237
CREATED:20250903T182628Z
LAST-MODIFIED:20250903T182628Z
UID:4317-1774569600-1774655999@waltriphspto.org
SUMMARY:Class Wars Victory Day
DESCRIPTION:Freshmen\, Sophomores\, Juniors\, and Seniors go head-to-head in Class Wars\, earning points through school spirit and participation. At the end of the competition\, one class will rise above the rest and be crowned the champion. \nThe winner’s celebration will be sponsored by the PTO\, ensuring plenty of fun and Ram pride for the victorious class!
URL:https://waltriphspto.org/event/class-wars-victory-day-6/
LOCATION:TX
CATEGORIES:School Culture
END:VEVENT
BEGIN:VEVENT
DTSTART;TZID=America/Chicago:20260227T000000
DTEND;TZID=America/Chicago:20260227T235959
DTSTAMP:20260424T135237
CREATED:20250903T181623Z
LAST-MODIFIED:20260223T163320Z
UID:4302-1772150400-1772236799@waltriphspto.org
SUMMARY:Ram Festival Days: GO TEXAN
DESCRIPTION:A campus-wide celebration sponsored by the Waltrip High School PTO \nGet ready for our favorite Ram Fest traditions! Join us for Go Texan Day 2026 during lunch for a school-wide celebration filled with entertainment\, concessions\, and plenty of Ram pride. \nFree Entertainment\nEnjoy PTO-sponsored activities throughout both lunch periods\, including: \n\n\nMechanical Bull \n\n\nStilt Walker \n\n\nLive DJ \n\n\nPhoto Booth \n\n\nBest Dressed Texan Contest \n\n\nPetting Zoo \n\n\nNo ticket required for entertainment — just bring your Texan spirit! \nAmazing Concessions\n$1 tickets will be sold before school and during the festival.All purchases directly benefit Waltrip clubs and student organizations. \n\n💵 Cash Only🚫 No Refunds \n\nHere’s a taste of what will be available: \n\n\nChicken Mexican rice bowls \n\n\nAl pastor tacos \n\n\nLoaded hot dogs \n\n\nCorn dogs \n\n\nElote \n\n\nSushi \n\n\nFried Oreos \n\n\nDirty sodas \n\n\nCupcakes \n\n\nGumbo \n\n\nBirria ramen \n\n\nMini pancakes \n\n\nChurros \n\n\nIce cream floats \n\n\nBrownies \n\n\nMatcha treats \n\n\nLemonade \n\n\nSnow cones…and so much more from our Ram Band\, athletic teams\, robotics\, choir\, cheer\, and class organizations. \n\n\nEvery booth supports a Waltrip student group — so every purchase makes a difference! \nDress the Part!\nStudents are encouraged to show their Texan pride!Boots\, hats\, denim\, western wear — or go all out and enter the Best Dressed Texan Contest.  Gift cards will be presented to the winners!
URL:https://waltriphspto.org/event/ram-festival-days-go-texan/
LOCATION:TX
CATEGORIES:School Culture
ATTACH;FMTTYPE=image/webp:https://waltriphspto.org/wp-content/uploads/2025/09/go-texan-2026-3.webp
END:VEVENT
BEGIN:VEVENT
DTSTART;TZID=America/Chicago:20260204T000000
DTEND;TZID=America/Chicago:20260204T235959
DTSTAMP:20260424T135237
CREATED:20250903T181529Z
LAST-MODIFIED:20260129T200111Z
UID:4300-1770163200-1770249599@waltriphspto.org
SUMMARY:Ram Festival Days: Black History Month Celebration
DESCRIPTION:Ram Fests are school-wide events that take place during both lunches\, organized by the Waltrip PTO and featuring free entertainment for all students. These events give Waltrip clubs and organizations the opportunity to sell items and raise funds for their programs. \nOn Wednesday\, February 4\, we’ll be celebrating Black History Month. Volunteer help with set up\, activities and clean-up is greatly appreciated! \n\nVolunteer for Ram Fest
URL:https://waltriphspto.org/event/ram-festival-days-black-history-month-celebration/
LOCATION:TX
CATEGORIES:School Culture
ATTACH;FMTTYPE=image/webp:https://waltriphspto.org/wp-content/uploads/2026/01/BHM-Festival-400-x-400-px-1.webp
END:VEVENT
BEGIN:VEVENT
DTSTART;TZID=America/Chicago:20260130T000000
DTEND;TZID=America/Chicago:20260130T235959
DTSTAMP:20260424T135237
CREATED:20250903T182542Z
LAST-MODIFIED:20250903T182542Z
UID:4315-1769731200-1769817599@waltriphspto.org
SUMMARY:Class Wars Victory Day
DESCRIPTION:Freshmen\, Sophomores\, Juniors\, and Seniors go head-to-head in Class Wars\, earning points through school spirit and participation. At the end of the competition\, one class will rise above the rest and be crowned the champion. \nThe winner’s celebration will be sponsored by the PTO\, ensuring plenty of fun and Ram pride for the victorious class!
URL:https://waltriphspto.org/event/class-wars-victory-day-5/
LOCATION:TX
CATEGORIES:School Culture
END:VEVENT
BEGIN:VEVENT
DTSTART;TZID=America/Chicago:20251219T000000
DTEND;TZID=America/Chicago:20251219T235959
DTSTAMP:20260424T135237
CREATED:20250903T182425Z
LAST-MODIFIED:20250903T182425Z
UID:4313-1766102400-1766188799@waltriphspto.org
SUMMARY:Class Wars Victory Day
DESCRIPTION:Freshmen\, Sophomores\, Juniors\, and Seniors go head-to-head in Class Wars\, earning points through school spirit and participation. At the end of the competition\, one class will rise above the rest and be crowned the champion. \nThe winner’s celebration will be sponsored by the PTO\, ensuring plenty of fun and Ram pride for the victorious class!
URL:https://waltriphspto.org/event/class-wars-victory-day-4/
LOCATION:TX
CATEGORIES:School Culture
END:VEVENT
BEGIN:VEVENT
DTSTART;TZID=America/Chicago:20251121T170000
DTEND;TZID=America/Chicago:20251121T190000
DTSTAMP:20260424T135237
CREATED:20251112T220931Z
LAST-MODIFIED:20251118T144500Z
UID:5557-1763744400-1763751600@waltriphspto.org
SUMMARY:Waltrip Staff Social Mixer
DESCRIPTION:PLEASE RSVP BELOW \nWaltrip Teachers and Staff\, you’re invited to the Waltrip Staff Social Mixer! \nThe Waltrip High School PTO is so excited to celebrate you and all your incredible hard work! \nPlease join us for a relaxed evening to unwind and socialize with your colleagues. We will be providing complimentary drinks and light bites to thank you for everything you do. \nThe event is hosted at Union Kitchen\, which is conveniently located right across the street from Waltrip! \nThis gathering is exclusively for Waltrip Teachers and Staff\, joined by a small number of PTO hosts. \nWe look forward to celebrating you! Please RSVP below so we can get an accurate headcount. \n\n\n                \n                        \n                             \n                        \n                        Name(Required)\n                            \n                            \n                                                    First\n                                                    \n                                                \n                            \n                            \n                                                            Last\n                                                            \n                                                        \n                            \n                        Email(Required)\n                                \n                                    Enter Email\n                                    \n                                \n                                \n                                    Confirm Email\n                                    \n                                \n                                \n                            Will you be attending the Waltrip Staff Social Mixer?\n			\n					\n					Yes\, I will attend.\n			\n			\n					\n					No\, I will not be able to attend.
URL:https://waltriphspto.org/event/waltrip-staff-social-mixer/
LOCATION:Union Kitchen\, 3452 Ella Blvd.\, Houston\, TX\, 77018\, United States
CATEGORIES:School Culture,Staff Appreciation
ATTACH;FMTTYPE=image/webp:https://waltriphspto.org/wp-content/uploads/2025/11/Waltrip-Staff-Happy-Hour.webp
END:VEVENT
BEGIN:VEVENT
DTSTART;TZID=America/Chicago:20251121T000000
DTEND;TZID=America/Chicago:20251121T235959
DTSTAMP:20260424T135237
CREATED:20250903T182341Z
LAST-MODIFIED:20250903T182341Z
UID:4311-1763683200-1763769599@waltriphspto.org
SUMMARY:Class Wars Victory Day
DESCRIPTION:Freshmen\, Sophomores\, Juniors\, and Seniors go head-to-head in Class Wars\, earning points through school spirit and participation. At the end of the competition\, one class will rise above the rest and be crowned the champion. \nThe winner’s celebration will be sponsored by the PTO\, ensuring plenty of fun and Ram pride for the victorious class!
URL:https://waltriphspto.org/event/class-wars-victory-day-3/
LOCATION:TX
CATEGORIES:School Culture
END:VEVENT
BEGIN:VEVENT
DTSTART;TZID=America/Chicago:20251112T000000
DTEND;TZID=America/Chicago:20251112T235959
DTSTAMP:20260424T135237
CREATED:20250903T181329Z
LAST-MODIFIED:20251103T153630Z
UID:4297-1762905600-1762991999@waltriphspto.org
SUMMARY:Ram Festival Days: Fall Festival
DESCRIPTION:
URL:https://waltriphspto.org/event/ram-festival-days-fall-festival/
LOCATION:TX
CATEGORIES:School Culture,Student Culture
ATTACH;FMTTYPE=image/webp:https://waltriphspto.org/wp-content/uploads/2025/10/8091e16a-1dbc-16a1-9a83-b6274762be73.webp
END:VEVENT
BEGIN:VEVENT
DTSTART;TZID=America/Chicago:20251031T000000
DTEND;TZID=America/Chicago:20251031T235959
DTSTAMP:20260424T135237
CREATED:20250903T182253Z
LAST-MODIFIED:20250903T182253Z
UID:4309-1761868800-1761955199@waltriphspto.org
SUMMARY:Class Wars Victory Day
DESCRIPTION:Freshmen\, Sophomores\, Juniors\, and Seniors go head-to-head in Class Wars\, earning points through school spirit and participation. At the end of the competition\, one class will rise above the rest and be crowned the champion. \nThe winner’s celebration will be sponsored by the PTO\, ensuring plenty of fun and Ram pride for the victorious class!
URL:https://waltriphspto.org/event/class-wars-victory-day-2/
LOCATION:TX
CATEGORIES:School Culture
END:VEVENT
BEGIN:VEVENT
DTSTART;TZID=America/Chicago:20251029T000000
DTEND;TZID=America/Chicago:20251103T235959
DTSTAMP:20260424T135237
CREATED:20251027T203015Z
LAST-MODIFIED:20251027T204207Z
UID:5257-1761696000-1762214399@waltriphspto.org
SUMMARY:Waltrip Remembers: Community Ofrenda 2025
DESCRIPTION:Thursday\, October 29 through Monday\, November 3\nHelp us create a beautiful community ofrenda in honor of Día de los Muertos / Día de los Difuntos / Día de los Angelitos / All Saints Day. 💐Students\, staff\, and families are invited to share the names and photos of loved ones they wish to remember and celebrate. Submissions will be included in our school’s ofrenda in the front hall near the PTO School Store and Auditorium.  👇 Fill out the form below. \nJoin us this Wednesday during lunch! 🌸Stop by our decorating table in the cafeteria to help create paper flowers and decorations for the ofrenda. Everyone is welcome to participate — no experience needed! \nStudents can also help us decorate the display on Wednesday after school! 🎨We’re looking for student volunteers to help bring this special tradition to life — adding flowers\, artwork\, and colorful touches.👉 Students can sign up to help decorate the Ofrenda here \nThe ofrenda will be on display from Thursday\, October 29 through Monday\, November 3.Come by to view and celebrate this beautiful community tribute throughout the week. \n\n                \n                        \n                            Waltrip Remembers: Contribute to Our Ofrenda\n                        \n                        Full Name of Loved One(s)Would you like to contribute an item to the ofrenda? Please let us know what you would like to bring.Please include your name with the item so we can return it after the display.Photo Uploads (optional)\n										\n											Drop files here or \n											Select files\n										\n									Max. file size: 512 MB. Submitted by (your name or student name)(Required)Contact Email(Required)
URL:https://waltriphspto.org/event/waltrip-remembers/
LOCATION:Waltrip High School\, 1900 W. 34th\, Houston\, TX\, 77018
CATEGORIES:School Culture,Student Culture
ATTACH;FMTTYPE=image/webp:https://waltriphspto.org/wp-content/uploads/2025/10/Presentacion-Dia-de-Muertos-Historia-y-Significado-Ilustrado-Morado-1.webp
END:VEVENT
BEGIN:VEVENT
DTSTART;TZID=America/Chicago:20251011T190000
DTEND;TZID=America/Chicago:20251011T220000
DTSTAMP:20260424T135237
CREATED:20250711T212211Z
LAST-MODIFIED:20250915T215109Z
UID:3283-1760209200-1760220000@waltriphspto.org
SUMMARY:Homecoming Dance 2025
DESCRIPTION:Get ready for a night of fun and games at this year’s Homecoming dance! \nTheme: Carnival \nDate: Saturday\, October 11th \nTickets: $15 each \nPlease have your Student ID ready when you enter the dance.
URL:https://waltriphspto.org/event/homecoming-dance-2025/
LOCATION:TX
CATEGORIES:Community,Dance,School Culture
ATTACH;FMTTYPE=image/png:https://waltriphspto.org/wp-content/uploads/2025/09/Homecoming.png
END:VEVENT
BEGIN:VEVENT
DTSTART;TZID=America/Chicago:20251010T000000
DTEND;TZID=America/Chicago:20251010T235959
DTSTAMP:20260424T135237
CREATED:20250711T211612Z
LAST-MODIFIED:20250814T133401Z
UID:3280-1760054400-1760140799@waltriphspto.org
SUMMARY:Waltrip Homecoming 2025
DESCRIPTION:More details to come!
URL:https://waltriphspto.org/event/waltrip-homecoming-2025/
LOCATION:Delmar\, 2020 Mangum Rd\, Houston\, TX\, 77092\, United States
CATEGORIES:Community,Football,School Culture,Sports
ATTACH;FMTTYPE=image/png:https://waltriphspto.org/wp-content/uploads/2025/07/Waltrip-4.png
END:VEVENT
BEGIN:VEVENT
DTSTART;TZID=America/Chicago:20250926T000000
DTEND;TZID=America/Chicago:20250926T235959
DTSTAMP:20260424T135237
CREATED:20250903T182215Z
LAST-MODIFIED:20250903T182215Z
UID:4307-1758844800-1758931199@waltriphspto.org
SUMMARY:Class Wars Victory Day
DESCRIPTION:Freshmen\, Sophomores\, Juniors\, and Seniors go head-to-head in Class Wars\, earning points through school spirit and participation. At the end of the competition\, one class will rise above the rest and be crowned the champion. \nThe winner’s celebration will be sponsored by the PTO\, ensuring plenty of fun and Ram pride for the victorious class!
URL:https://waltriphspto.org/event/class-wars-victory-day/
LOCATION:TX
CATEGORIES:School Culture
END:VEVENT
BEGIN:VEVENT
DTSTART;TZID=America/Chicago:20250118T180000
DTEND;TZID=America/Chicago:20250118T200000
DTSTAMP:20260424T135237
CREATED:20250108T203242Z
LAST-MODIFIED:20250108T203242Z
UID:2370-1737223200-1737230400@waltriphspto.org
SUMMARY:Waltrip High School Informational Event
DESCRIPTION:Thinking about Waltrip High School for your family\, or know someone who is? Join us for an Informational Meeting on January 18th at 6 PM at the Sullivan Home (830 W. 43rd\, Houston\, TX 77018). Meet with PTO members\, parents\, students\, and staff to hear about their experiences! Light bites and refreshments will be provided. Please RSVP to social@waltriphspto.org. We hope to see you there!
URL:https://waltriphspto.org/event/waltrip-high-school-informational-event/
LOCATION:Sullivan Home\, 830 W. 43rd\, Houston\, TX\, 77018\, United States
CATEGORIES:Community,School Culture
ATTACH;FMTTYPE=image/png:https://waltriphspto.org/wp-content/uploads/2025/01/1.png
END:VEVENT
BEGIN:VEVENT
DTSTART;TZID=America/Chicago:20241102T190000
DTEND;TZID=America/Chicago:20241102T190000
DTSTAMP:20260424T135237
CREATED:20241010T170137Z
LAST-MODIFIED:20241010T170149Z
UID:1737-1730574000-1730574000@waltriphspto.org
SUMMARY:Waltrip PTO Movie Night: Coco
DESCRIPTION:Join us in celebrating Día de los Muertos with a free outdoor showing of Disney’s Coco on Saturday\, November 2nd at 7pm! 🌸💀 The movie will be screened in the Waltrip cafeteria courtyard\, and we’d love to see our Waltrip community and neighbors of all ages there for this special evening. \n🍿 Concessions will be available for purchase\, and if your club or group is interested in selling\, sign up here: https://www.signupgenius.com/go/5080F44A5AD2FA13-52092745-waltrip#/
URL:https://waltriphspto.org/event/waltrip-pto-movie-night-coco/
LOCATION:Waltrip High School Courtyard\, 1900 W. 34th\, Houston\, TX\, 77018
CATEGORIES:School Culture
ATTACH;FMTTYPE=image/png:https://waltriphspto.org/wp-content/uploads/2024/10/1.png
END:VEVENT
END:VCALENDAR