BEGIN:VCALENDAR
VERSION:2.0
PRODID:-//Waltrip High School PTO - ECPv6.15.20//NONSGML v1.0//EN
CALSCALE:GREGORIAN
METHOD:PUBLISH
X-ORIGINAL-URL:https://waltriphspto.org
X-WR-CALDESC:Events for Waltrip High School PTO
REFRESH-INTERVAL;VALUE=DURATION:PT1H
X-Robots-Tag:noindex
X-PUBLISHED-TTL:PT1H
BEGIN:VTIMEZONE
TZID:America/Chicago
BEGIN:DAYLIGHT
TZOFFSETFROM:-0600
TZOFFSETTO:-0500
TZNAME:CDT
DTSTART:20250309T080000
END:DAYLIGHT
BEGIN:STANDARD
TZOFFSETFROM:-0500
TZOFFSETTO:-0600
TZNAME:CST
DTSTART:20251102T070000
END:STANDARD
BEGIN:DAYLIGHT
TZOFFSETFROM:-0600
TZOFFSETTO:-0500
TZNAME:CDT
DTSTART:20260308T080000
END:DAYLIGHT
BEGIN:STANDARD
TZOFFSETFROM:-0500
TZOFFSETTO:-0600
TZNAME:CST
DTSTART:20261101T070000
END:STANDARD
BEGIN:DAYLIGHT
TZOFFSETFROM:-0600
TZOFFSETTO:-0500
TZNAME:CDT
DTSTART:20270314T080000
END:DAYLIGHT
BEGIN:STANDARD
TZOFFSETFROM:-0500
TZOFFSETTO:-0600
TZNAME:CST
DTSTART:20271107T070000
END:STANDARD
END:VTIMEZONE
BEGIN:VEVENT
DTSTART;TZID=America/Chicago:20260204T000000
DTEND;TZID=America/Chicago:20260204T235959
DTSTAMP:20260424T180820
CREATED:20250903T181529Z
LAST-MODIFIED:20260129T200111Z
UID:4300-1770163200-1770249599@waltriphspto.org
SUMMARY:Ram Festival Days: Black History Month Celebration
DESCRIPTION:Ram Fests are school-wide events that take place during both lunches\, organized by the Waltrip PTO and featuring free entertainment for all students. These events give Waltrip clubs and organizations the opportunity to sell items and raise funds for their programs. \nOn Wednesday\, February 4\, we’ll be celebrating Black History Month. Volunteer help with set up\, activities and clean-up is greatly appreciated! \n\nVolunteer for Ram Fest
URL:https://waltriphspto.org/event/ram-festival-days-black-history-month-celebration/
LOCATION:TX
CATEGORIES:School Culture
ATTACH;FMTTYPE=image/webp:https://waltriphspto.org/wp-content/uploads/2026/01/BHM-Festival-400-x-400-px-1.webp
END:VEVENT
END:VCALENDAR