BEGIN:VCALENDAR
VERSION:2.0
PRODID:-//Waltrip High School PTO - ECPv6.15.20//NONSGML v1.0//EN
CALSCALE:GREGORIAN
METHOD:PUBLISH
X-WR-CALNAME:Waltrip High School PTO
X-ORIGINAL-URL:https://waltriphspto.org
X-WR-CALDESC:Events for Waltrip High School PTO
REFRESH-INTERVAL;VALUE=DURATION:PT1H
X-Robots-Tag:noindex
X-PUBLISHED-TTL:PT1H
BEGIN:VTIMEZONE
TZID:America/Chicago
BEGIN:DAYLIGHT
TZOFFSETFROM:-0600
TZOFFSETTO:-0500
TZNAME:CDT
DTSTART:20240310T080000
END:DAYLIGHT
BEGIN:STANDARD
TZOFFSETFROM:-0500
TZOFFSETTO:-0600
TZNAME:CST
DTSTART:20241103T070000
END:STANDARD
BEGIN:DAYLIGHT
TZOFFSETFROM:-0600
TZOFFSETTO:-0500
TZNAME:CDT
DTSTART:20250309T080000
END:DAYLIGHT
BEGIN:STANDARD
TZOFFSETFROM:-0500
TZOFFSETTO:-0600
TZNAME:CST
DTSTART:20251102T070000
END:STANDARD
BEGIN:DAYLIGHT
TZOFFSETFROM:-0600
TZOFFSETTO:-0500
TZNAME:CDT
DTSTART:20260308T080000
END:DAYLIGHT
BEGIN:STANDARD
TZOFFSETFROM:-0500
TZOFFSETTO:-0600
TZNAME:CST
DTSTART:20261101T070000
END:STANDARD
END:VTIMEZONE
BEGIN:VEVENT
DTSTART;TZID=America/Chicago:20250118T180000
DTEND;TZID=America/Chicago:20250118T200000
DTSTAMP:20260425T222005
CREATED:20250108T203242Z
LAST-MODIFIED:20250108T203242Z
UID:2370-1737223200-1737230400@waltriphspto.org
SUMMARY:Waltrip High School Informational Event
DESCRIPTION:Thinking about Waltrip High School for your family\, or know someone who is? Join us for an Informational Meeting on January 18th at 6 PM at the Sullivan Home (830 W. 43rd\, Houston\, TX 77018). Meet with PTO members\, parents\, students\, and staff to hear about their experiences! Light bites and refreshments will be provided. Please RSVP to social@waltriphspto.org. We hope to see you there!
URL:https://waltriphspto.org/event/waltrip-high-school-informational-event/
LOCATION:Sullivan Home\, 830 W. 43rd\, Houston\, TX\, 77018\, United States
CATEGORIES:Community,School Culture
ATTACH;FMTTYPE=image/png:https://waltriphspto.org/wp-content/uploads/2025/01/1.png
END:VEVENT
END:VCALENDAR