BEGIN:VCALENDAR
VERSION:2.0
PRODID:-//Waltrip High School PTO - ECPv6.15.20//NONSGML v1.0//EN
CALSCALE:GREGORIAN
METHOD:PUBLISH
X-WR-CALNAME:Waltrip High School PTO
X-ORIGINAL-URL:https://waltriphspto.org
X-WR-CALDESC:Events for Waltrip High School PTO
REFRESH-INTERVAL;VALUE=DURATION:PT1H
X-Robots-Tag:noindex
X-PUBLISHED-TTL:PT1H
BEGIN:VTIMEZONE
TZID:America/Chicago
BEGIN:DAYLIGHT
TZOFFSETFROM:-0600
TZOFFSETTO:-0500
TZNAME:CDT
DTSTART:20250309T080000
END:DAYLIGHT
BEGIN:STANDARD
TZOFFSETFROM:-0500
TZOFFSETTO:-0600
TZNAME:CST
DTSTART:20251102T070000
END:STANDARD
BEGIN:DAYLIGHT
TZOFFSETFROM:-0600
TZOFFSETTO:-0500
TZNAME:CDT
DTSTART:20260308T080000
END:DAYLIGHT
BEGIN:STANDARD
TZOFFSETFROM:-0500
TZOFFSETTO:-0600
TZNAME:CST
DTSTART:20261101T070000
END:STANDARD
BEGIN:DAYLIGHT
TZOFFSETFROM:-0600
TZOFFSETTO:-0500
TZNAME:CDT
DTSTART:20270314T080000
END:DAYLIGHT
BEGIN:STANDARD
TZOFFSETFROM:-0500
TZOFFSETTO:-0600
TZNAME:CST
DTSTART:20271107T070000
END:STANDARD
END:VTIMEZONE
BEGIN:VEVENT
DTSTART;TZID=America/Chicago:20260328T190000
DTEND;TZID=America/Chicago:20260328T230000
DTSTAMP:20260424T231907
CREATED:20260122T183959Z
LAST-MODIFIED:20260122T190542Z
UID:5839-1774724400-1774738800@waltriphspto.org
SUMMARY:Waltrip's DJ Bingo Night
DESCRIPTION:Get ready for one of Waltrip PTO’s most fun nights of the year! Waltrip DJ Bingo is a high-energy mashup of music\, bingo\, and a party atmosphere—no boring numbers here. Instead of calling letters\, the DJ spins hit songs and you mark your card when you hear them. \nCome dressed as your favorite band\, an OG bingo legend\, or repping Waltrip pride\, and settle in for a night of great food\, dancing\, silent & live auctions\, and lots of laughs—all in support of Waltrip High School students. \n BYOL Event\nThe Northside Columbus Club is BYOL — bring your favorite liquor. Beer\, wine\, and mixers (soda\, tonic\, etc.) are available for purchase at the venue. \n Tickets & Sponsorships Available \n\nGeneral admission and discounted teacher/staff tickets\nTables of 8 (includes ice + setup)\nSponsorship levels ranging from $250–$1\,000\, with perks like event recognition\, signage\, and exclusive branding opportunities\n\n Purchase tickets\, reserve a table\, or become a sponsor using the ticket link below. \n\nGet Tickets Now!
URL:https://waltriphspto.org/event/waltrips-dj-bingo-night/
LOCATION:Northside Columbus Club\, 607 E. Whitney\, Houston\, TX\, 77022\, United States
CATEGORIES:Fundraising
ATTACH;FMTTYPE=image/webp:https://waltriphspto.org/wp-content/uploads/2026/01/bingo-get-tickets.webp
END:VEVENT
END:VCALENDAR