BEGIN:VCALENDAR
VERSION:2.0
PRODID:-//Waltrip High School PTO - ECPv6.15.20//NONSGML v1.0//EN
CALSCALE:GREGORIAN
METHOD:PUBLISH
X-ORIGINAL-URL:https://waltriphspto.org
X-WR-CALDESC:Events for Waltrip High School PTO
REFRESH-INTERVAL;VALUE=DURATION:PT1H
X-Robots-Tag:noindex
X-PUBLISHED-TTL:PT1H
BEGIN:VTIMEZONE
TZID:America/Chicago
BEGIN:DAYLIGHT
TZOFFSETFROM:-0600
TZOFFSETTO:-0500
TZNAME:CDT
DTSTART:20240310T080000
END:DAYLIGHT
BEGIN:STANDARD
TZOFFSETFROM:-0500
TZOFFSETTO:-0600
TZNAME:CST
DTSTART:20241103T070000
END:STANDARD
BEGIN:DAYLIGHT
TZOFFSETFROM:-0600
TZOFFSETTO:-0500
TZNAME:CDT
DTSTART:20250309T080000
END:DAYLIGHT
BEGIN:STANDARD
TZOFFSETFROM:-0500
TZOFFSETTO:-0600
TZNAME:CST
DTSTART:20251102T070000
END:STANDARD
BEGIN:DAYLIGHT
TZOFFSETFROM:-0600
TZOFFSETTO:-0500
TZNAME:CDT
DTSTART:20260308T080000
END:DAYLIGHT
BEGIN:STANDARD
TZOFFSETFROM:-0500
TZOFFSETTO:-0600
TZNAME:CST
DTSTART:20261101T070000
END:STANDARD
END:VTIMEZONE
BEGIN:VEVENT
DTSTART;TZID=America/Chicago:20250918T190000
DTEND;TZID=America/Chicago:20250918T190000
DTSTAMP:20260425T114033
CREATED:20250814T131650Z
LAST-MODIFIED:20250916T163229Z
UID:3895-1758222000-1758222000@waltriphspto.org
SUMMARY:Waltrip Football vs Spring Woods (Home)
DESCRIPTION:🏈🐏 Varsity Football vs Spring WoodsIt’s a Thursday night showdown—see you under the lights! \nThu\, Sept 18 • 7:00 PMLocation: Barnett StadiumTickets: gofan.co/event/3687715 \nLet’s fill the stands and cheer our Rams to a W! ❤️🤍 #RamNation #GoRams
URL:https://waltriphspto.org/event/waltrip-football-vs-spring-woods-home/
LOCATION:Barnett\, 6800 Fairway Dr\, Houston\, TX\, 77087\, United States
CATEGORIES:Athletics,Football
ATTACH;FMTTYPE=image/png:https://waltriphspto.org/wp-content/uploads/2025/08/Football-vs-Spring-Woods.png
END:VEVENT
END:VCALENDAR