BEGIN:VCALENDAR
VERSION:2.0
PRODID:-//Waltrip High School PTO - ECPv6.15.20//NONSGML v1.0//EN
CALSCALE:GREGORIAN
METHOD:PUBLISH
X-WR-CALNAME:Waltrip High School PTO
X-ORIGINAL-URL:https://waltriphspto.org
X-WR-CALDESC:Events for Waltrip High School PTO
REFRESH-INTERVAL;VALUE=DURATION:PT1H
X-Robots-Tag:noindex
X-PUBLISHED-TTL:PT1H
BEGIN:VTIMEZONE
TZID:America/Chicago
BEGIN:DAYLIGHT
TZOFFSETFROM:-0600
TZOFFSETTO:-0500
TZNAME:CDT
DTSTART:20240310T080000
END:DAYLIGHT
BEGIN:STANDARD
TZOFFSETFROM:-0500
TZOFFSETTO:-0600
TZNAME:CST
DTSTART:20241103T070000
END:STANDARD
BEGIN:DAYLIGHT
TZOFFSETFROM:-0600
TZOFFSETTO:-0500
TZNAME:CDT
DTSTART:20250309T080000
END:DAYLIGHT
BEGIN:STANDARD
TZOFFSETFROM:-0500
TZOFFSETTO:-0600
TZNAME:CST
DTSTART:20251102T070000
END:STANDARD
BEGIN:DAYLIGHT
TZOFFSETFROM:-0600
TZOFFSETTO:-0500
TZNAME:CDT
DTSTART:20260308T080000
END:DAYLIGHT
BEGIN:STANDARD
TZOFFSETFROM:-0500
TZOFFSETTO:-0600
TZNAME:CST
DTSTART:20261101T070000
END:STANDARD
END:VTIMEZONE
BEGIN:VEVENT
DTSTART;TZID=America/Chicago:20250916T173000
DTEND;TZID=America/Chicago:20250916T173000
DTSTAMP:20260425T113928
CREATED:20250916T162826Z
LAST-MODIFIED:20250916T163428Z
UID:4481-1758043800-1758043800@waltriphspto.org
SUMMARY:Waltrip JV Football vs Spring Woods (AWAY)
DESCRIPTION: JV Football – First Away Game!Ram Nation hits the road to take on Spring Woods. Let’s pack the visitor stands and be LOUD!Wed\, Sept 17 • 5:30 PMLocation: Spring Woods High School2045 Gessner Rd\, Houston\, TX 77080Tickets: https://gofan.co/event/3685697?schoolId=TX17854
URL:https://waltriphspto.org/event/waltrip-jv-football-vs-spring-woods-away/
LOCATION:Spring Woods\, 2045 Gessner Rd\, Houston\, 77080\, United States
CATEGORIES:Athletics,Football
ATTACH;FMTTYPE=image/png:https://waltriphspto.org/wp-content/uploads/2025/09/JV-Football-vs-Spring-woods.png
END:VEVENT
END:VCALENDAR