BEGIN:VCALENDAR
VERSION:2.0
PRODID:-//Waltrip High School PTO - ECPv6.15.20//NONSGML v1.0//EN
CALSCALE:GREGORIAN
METHOD:PUBLISH
X-WR-CALNAME:Waltrip High School PTO
X-ORIGINAL-URL:https://waltriphspto.org
X-WR-CALDESC:Events for Waltrip High School PTO
REFRESH-INTERVAL;VALUE=DURATION:PT1H
X-Robots-Tag:noindex
X-PUBLISHED-TTL:PT1H
BEGIN:VTIMEZONE
TZID:America/Chicago
BEGIN:DAYLIGHT
TZOFFSETFROM:-0600
TZOFFSETTO:-0500
TZNAME:CDT
DTSTART:20240310T080000
END:DAYLIGHT
BEGIN:STANDARD
TZOFFSETFROM:-0500
TZOFFSETTO:-0600
TZNAME:CST
DTSTART:20241103T070000
END:STANDARD
BEGIN:DAYLIGHT
TZOFFSETFROM:-0600
TZOFFSETTO:-0500
TZNAME:CDT
DTSTART:20250309T080000
END:DAYLIGHT
BEGIN:STANDARD
TZOFFSETFROM:-0500
TZOFFSETTO:-0600
TZNAME:CST
DTSTART:20251102T070000
END:STANDARD
BEGIN:DAYLIGHT
TZOFFSETFROM:-0600
TZOFFSETTO:-0500
TZNAME:CDT
DTSTART:20260308T080000
END:DAYLIGHT
BEGIN:STANDARD
TZOFFSETFROM:-0500
TZOFFSETTO:-0600
TZNAME:CST
DTSTART:20261101T070000
END:STANDARD
END:VTIMEZONE
BEGIN:VEVENT
DTSTART;TZID=America/Chicago:20250616T083000
DTEND;TZID=America/Chicago:20250627T153000
DTSTAMP:20260425T221653
CREATED:20250513T154916Z
LAST-MODIFIED:20250513T154916Z
UID:3089-1750062600-1751038200@waltriphspto.org
SUMMARY:Waltrip Ram Band Summer Camps
DESCRIPTION:BACK BY POPULAR DEMAND!\nIt’s the 3rd Annual ROARIN’ IN THE SUMMER BAND CAMP! And new this year: “JAZZIN’ IN THE SUMMER” – the 1st jazz-intensive camp hosted by Waltrip!\n\n\nWho: Any band student in 4th-12th grade with 1 year of experience\nWhat: Exciting activities to develop musicianship\, teamwork\, and leadership. Each camper also receives daily private lessons.\nWhen:\nRoarin’: 8:30am – 12:30pm\, 6/16-6/20 (No camp 6/19)\, & 6/23-6/27\nJazzin’: 1:30pm – 3:30pm\, 6/16-6/20 (No camp 6/19)\, & 6/23-6/27\nWhere: Waltrip High School – 1900 W. 34th Street. Houston\, TX 77018\n Fee: $100 – Free for any current or 9th grade incoming Waltrip band student.\n REGISTER NOW! https://forms.gle/MthXhG8jGQoTaDn39
URL:https://waltriphspto.org/event/2025-waltrip-ram-band-summer-camps/
CATEGORIES:Band,Summer Camps
END:VEVENT
END:VCALENDAR