BEGIN:VCALENDAR
VERSION:2.0
PRODID:-//Waltrip High School PTO - ECPv6.15.20//NONSGML v1.0//EN
CALSCALE:GREGORIAN
METHOD:PUBLISH
X-WR-CALNAME:Waltrip High School PTO
X-ORIGINAL-URL:https://waltriphspto.org
X-WR-CALDESC:Events for Waltrip High School PTO
REFRESH-INTERVAL;VALUE=DURATION:PT1H
X-Robots-Tag:noindex
X-PUBLISHED-TTL:PT1H
BEGIN:VTIMEZONE
TZID:America/Chicago
BEGIN:DAYLIGHT
TZOFFSETFROM:-0600
TZOFFSETTO:-0500
TZNAME:CDT
DTSTART:20230312T080000
END:DAYLIGHT
BEGIN:STANDARD
TZOFFSETFROM:-0500
TZOFFSETTO:-0600
TZNAME:CST
DTSTART:20231105T070000
END:STANDARD
BEGIN:DAYLIGHT
TZOFFSETFROM:-0600
TZOFFSETTO:-0500
TZNAME:CDT
DTSTART:20240310T080000
END:DAYLIGHT
BEGIN:STANDARD
TZOFFSETFROM:-0500
TZOFFSETTO:-0600
TZNAME:CST
DTSTART:20241103T070000
END:STANDARD
BEGIN:DAYLIGHT
TZOFFSETFROM:-0600
TZOFFSETTO:-0500
TZNAME:CDT
DTSTART:20250309T080000
END:DAYLIGHT
BEGIN:STANDARD
TZOFFSETFROM:-0500
TZOFFSETTO:-0600
TZNAME:CST
DTSTART:20251102T070000
END:STANDARD
BEGIN:DAYLIGHT
TZOFFSETFROM:-0600
TZOFFSETTO:-0500
TZNAME:CDT
DTSTART:20260308T080000
END:DAYLIGHT
BEGIN:STANDARD
TZOFFSETFROM:-0500
TZOFFSETTO:-0600
TZNAME:CST
DTSTART:20261101T070000
END:STANDARD
END:VTIMEZONE
BEGIN:VEVENT
DTSTART;TZID=America/Chicago:20250930T000000
DTEND;TZID=America/Chicago:20250930T235959
DTSTAMP:20260424T211327
CREATED:20250814T135252Z
LAST-MODIFIED:20250903T183428Z
UID:3921-1759190400-1759276799@waltriphspto.org
SUMMARY:Water Polo UIL District 15 Tournament
DESCRIPTION:
URL:https://waltriphspto.org/event/water-polo-uil-district-15-tournament/
CATEGORIES:Aquatics,Athletics,Water Polo
ATTACH;FMTTYPE=image/png:https://waltriphspto.org/wp-content/uploads/2025/08/Waltrip-Water-Polo-1.png
END:VEVENT
BEGIN:VEVENT
DTSTART;TZID=America/Chicago:20250927T100000
DTEND;TZID=America/Chicago:20250927T100000
DTSTAMP:20260424T211327
CREATED:20250814T135210Z
LAST-MODIFIED:20250814T135210Z
UID:3919-1758967200-1758967200@waltriphspto.org
SUMMARY:Waltrip Water Polo vs Northside
DESCRIPTION:
URL:https://waltriphspto.org/event/waltrip-water-polo-vs-northside-2/
LOCATION:Milby High School\, 1601 Broadway St\, Houston\, TX\, 77012\, United States
CATEGORIES:Aquatics,Athletics,Water Polo
ATTACH;FMTTYPE=image/png:https://waltriphspto.org/wp-content/uploads/2025/08/Waltrip-Water-Polo-1.png
END:VEVENT
BEGIN:VEVENT
DTSTART;TZID=America/Chicago:20250924T180000
DTEND;TZID=America/Chicago:20250924T180000
DTSTAMP:20260424T211327
CREATED:20250814T135123Z
LAST-MODIFIED:20250814T135123Z
UID:3916-1758736800-1758736800@waltriphspto.org
SUMMARY:Waltrip Water Polo vs Madison
DESCRIPTION:
URL:https://waltriphspto.org/event/waltrip-water-polo-vs-madison-2/
LOCATION:Milby High School\, 1601 Broadway St\, Houston\, TX\, 77012\, United States
CATEGORIES:Aquatics,Athletics,Water Polo
ATTACH;FMTTYPE=image/png:https://waltriphspto.org/wp-content/uploads/2025/08/Waltrip-Water-Polo-1.png
END:VEVENT
BEGIN:VEVENT
DTSTART;TZID=America/Chicago:20250920T100000
DTEND;TZID=America/Chicago:20250920T100000
DTSTAMP:20260424T211327
CREATED:20250814T134402Z
LAST-MODIFIED:20250814T134402Z
UID:3914-1758362400-1758362400@waltriphspto.org
SUMMARY:Waltrip Water Polo vs Milby
DESCRIPTION:
URL:https://waltriphspto.org/event/waltrip-water-polo-vs-milby-2/
LOCATION:Milby High School\, 1601 Broadway St\, Houston\, TX\, 77012\, United States
CATEGORIES:Aquatics,Athletics,Water Polo
ATTACH;FMTTYPE=image/png:https://waltriphspto.org/wp-content/uploads/2025/08/Waltrip-Water-Polo-1.png
END:VEVENT
BEGIN:VEVENT
DTSTART;TZID=America/Chicago:20250917T180000
DTEND;TZID=America/Chicago:20250917T180000
DTSTAMP:20260424T211327
CREATED:20250814T134317Z
LAST-MODIFIED:20250814T134317Z
UID:3912-1758132000-1758132000@waltriphspto.org
SUMMARY:Waltrip Water Polo vs Yates
DESCRIPTION:
URL:https://waltriphspto.org/event/waltrip-water-polo-vs-yates-2/
LOCATION:Milby High School\, 1601 Broadway St\, Houston\, TX\, 77012\, United States
CATEGORIES:Aquatics,Athletics,Water Polo
ATTACH;FMTTYPE=image/png:https://waltriphspto.org/wp-content/uploads/2025/08/Waltrip-Water-Polo-1.png
END:VEVENT
BEGIN:VEVENT
DTSTART;TZID=America/Chicago:20250913T100000
DTEND;TZID=America/Chicago:20250913T100000
DTSTAMP:20260424T211327
CREATED:20250814T134225Z
LAST-MODIFIED:20250814T134225Z
UID:3909-1757757600-1757757600@waltriphspto.org
SUMMARY:Waltrip Water Polo vs Chavez
DESCRIPTION:
URL:https://waltriphspto.org/event/waltrip-water-polo-vs-chavez-2/
LOCATION:Chavez High School\, 8501 Howard Dr\, Houston\, TX\, 77017\, United States
CATEGORIES:Aquatics,Athletics,Water Polo
ATTACH;FMTTYPE=image/png:https://waltriphspto.org/wp-content/uploads/2025/08/Waltrip-Water-Polo-1.png
END:VEVENT
BEGIN:VEVENT
DTSTART;TZID=America/Chicago:20240928T090000
DTEND;TZID=America/Chicago:20240928T090000
DTSTAMP:20260424T211327
CREATED:20240904T143735Z
LAST-MODIFIED:20240904T143735Z
UID:1219-1727514000-1727514000@waltriphspto.org
SUMMARY:Waltrip Water Polo vs Northside
DESCRIPTION:Girls 9:00am\nBoys 10:15am
URL:https://waltriphspto.org/event/waltrip-water-polo-vs-northside/
LOCATION:Lamar High School\, 3325 Westheimer Rd\, Houston\, 77098\, United States
CATEGORIES:Aquatics,Sports
ATTACH;FMTTYPE=image/png:https://waltriphspto.org/wp-content/uploads/2024/09/Waltrip-Water-Polo.png
END:VEVENT
BEGIN:VEVENT
DTSTART;TZID=America/Chicago:20240925T190000
DTEND;TZID=America/Chicago:20240925T190000
DTSTAMP:20260424T211327
CREATED:20240904T143601Z
LAST-MODIFIED:20240904T143601Z
UID:1216-1727290800-1727290800@waltriphspto.org
SUMMARY:Waltrip Water Polo vs Yates
DESCRIPTION:Boys 7:00pm
URL:https://waltriphspto.org/event/waltrip-water-polo-vs-yates/
LOCATION:Lamar High School\, 3325 Westheimer Rd\, Houston\, 77098\, United States
CATEGORIES:Aquatics,Sports
ATTACH;FMTTYPE=image/png:https://waltriphspto.org/wp-content/uploads/2024/09/Waltrip-Water-Polo.png
END:VEVENT
BEGIN:VEVENT
DTSTART;TZID=America/Chicago:20240921T090000
DTEND;TZID=America/Chicago:20240921T090000
DTSTAMP:20260424T211327
CREATED:20240904T143131Z
LAST-MODIFIED:20240904T143503Z
UID:1213-1726909200-1726909200@waltriphspto.org
SUMMARY:Waltrip Water Polo vs Milby
DESCRIPTION:Girls 9:00am\nBoys 10:15am
URL:https://waltriphspto.org/event/waltrip-water-polo-vs-milby/
LOCATION:Milby High School\, 1601 Broadway St\, Houston\, TX\, 77012\, United States
CATEGORIES:Aquatics,Sports
ATTACH;FMTTYPE=image/png:https://waltriphspto.org/wp-content/uploads/2024/09/Waltrip-Water-Polo.png
END:VEVENT
BEGIN:VEVENT
DTSTART;TZID=America/Chicago:20240918T183000
DTEND;TZID=America/Chicago:20240918T183000
DTSTAMP:20260424T211327
CREATED:20240904T142927Z
LAST-MODIFIED:20240904T142927Z
UID:1210-1726684200-1726684200@waltriphspto.org
SUMMARY:Waltrip Water Polo vs Madison
DESCRIPTION:Girls 6:30pm\nBoys 7:30pm
URL:https://waltriphspto.org/event/waltrip-water-polo-vs-madison/
LOCATION:Lamar High School\, 3325 Westheimer Rd\, Houston\, 77098\, United States
CATEGORIES:Aquatics,Sports
ATTACH;FMTTYPE=image/png:https://waltriphspto.org/wp-content/uploads/2024/09/Waltrip-Water-Polo.png
END:VEVENT
BEGIN:VEVENT
DTSTART;TZID=America/Chicago:20240911T180000
DTEND;TZID=America/Chicago:20240911T180000
DTSTAMP:20260424T211327
CREATED:20240904T142645Z
LAST-MODIFIED:20240904T142645Z
UID:1206-1726077600-1726077600@waltriphspto.org
SUMMARY:Waltrip Water Polo vs Chavez
DESCRIPTION:Girls 6:00pm\nBoys 7:15pm
URL:https://waltriphspto.org/event/waltrip-water-polo-vs-chavez/
LOCATION:Chavez High School\, 8501 Howard Dr\, Houston\, TX\, 77017\, United States
CATEGORIES:Aquatics,Sports
ATTACH;FMTTYPE=image/png:https://waltriphspto.org/wp-content/uploads/2024/09/Waltrip-Water-Polo.png
END:VEVENT
END:VCALENDAR