BEGIN:VCALENDAR
VERSION:2.0
PRODID:-//Waltrip High School PTO - ECPv6.15.20//NONSGML v1.0//EN
CALSCALE:GREGORIAN
METHOD:PUBLISH
X-WR-CALNAME:Waltrip High School PTO
X-ORIGINAL-URL:https://waltriphspto.org
X-WR-CALDESC:Events for Waltrip High School PTO
REFRESH-INTERVAL;VALUE=DURATION:PT1H
X-Robots-Tag:noindex
X-PUBLISHED-TTL:PT1H
BEGIN:VTIMEZONE
TZID:America/Chicago
BEGIN:DAYLIGHT
TZOFFSETFROM:-0600
TZOFFSETTO:-0500
TZNAME:CDT
DTSTART:20250309T080000
END:DAYLIGHT
BEGIN:STANDARD
TZOFFSETFROM:-0500
TZOFFSETTO:-0600
TZNAME:CST
DTSTART:20251102T070000
END:STANDARD
BEGIN:DAYLIGHT
TZOFFSETFROM:-0600
TZOFFSETTO:-0500
TZNAME:CDT
DTSTART:20260308T080000
END:DAYLIGHT
BEGIN:STANDARD
TZOFFSETFROM:-0500
TZOFFSETTO:-0600
TZNAME:CST
DTSTART:20261101T070000
END:STANDARD
BEGIN:DAYLIGHT
TZOFFSETFROM:-0600
TZOFFSETTO:-0500
TZNAME:CDT
DTSTART:20270314T080000
END:DAYLIGHT
BEGIN:STANDARD
TZOFFSETFROM:-0500
TZOFFSETTO:-0600
TZNAME:CST
DTSTART:20271107T070000
END:STANDARD
END:VTIMEZONE
BEGIN:VEVENT
DTSTART;TZID=America/Chicago:20260426T150000
DTEND;TZID=America/Chicago:20260426T150000
DTSTAMP:20260422T224013
CREATED:20251201T211744Z
LAST-MODIFIED:20251201T211744Z
UID:5611-1777215600-1777215600@waltriphspto.org
SUMMARY:Bourbon\, Bellies\, Butts & Bones (Jazz on 34th Social)
DESCRIPTION:Adults only – Hosted by Ashley & Chris Clark\, Erin Field & Hollywood\, Michelle & Ben Schoene
URL:https://waltriphspto.org/event/bourbon-bellies-butts-bones-jazz-on-34th-social/
LOCATION:TX
CATEGORIES:Socials
ATTACH;FMTTYPE=image/webp:https://waltriphspto.org/wp-content/uploads/2024/11/brisket-bourbon.webp
END:VEVENT
BEGIN:VEVENT
DTSTART;TZID=America/Chicago:20260429T000000
DTEND;TZID=America/Chicago:20260429T235959
DTSTAMP:20260422T224013
CREATED:20260331T202818Z
LAST-MODIFIED:20260401T174406Z
UID:6119-1777420800-1777507199@waltriphspto.org
SUMMARY:Ram Fest - One Love
DESCRIPTION:One Love ❤️ \nApril’s Ram Fest is all about celebrating everyone on campus. \nCome together\, support each other\, and be part of something bigger. \nAll students. All backgrounds. One Ram Nation.
URL:https://waltriphspto.org/event/ram-fest-one-love/
LOCATION:TX
CATEGORIES:School Culture
ATTACH;FMTTYPE=image/webp:https://waltriphspto.org/wp-content/uploads/2026/03/One-Love-Ram-Fest1.webp
END:VEVENT
BEGIN:VEVENT
DTSTART;TZID=America/Chicago:20260430T000000
DTEND;TZID=America/Chicago:20260430T235959
DTSTAMP:20260422T224013
CREATED:20250903T182954Z
LAST-MODIFIED:20250903T182954Z
UID:4319-1777507200-1777593599@waltriphspto.org
SUMMARY:Class Wars Victory Day
DESCRIPTION:Freshmen\, Sophomores\, Juniors\, and Seniors go head-to-head in Class Wars\, earning points through school spirit and participation. At the end of the competition\, one class will rise above the rest and be crowned the champion. \nThe winner’s celebration will be sponsored by the PTO\, ensuring plenty of fun and Ram pride for the victorious class!
URL:https://waltriphspto.org/event/class-wars-victory-day-7/
LOCATION:TX
CATEGORIES:School Culture
END:VEVENT
BEGIN:VEVENT
DTSTART;TZID=America/Chicago:20260502T140000
DTEND;TZID=America/Chicago:20260502T140000
DTSTAMP:20260422T224013
CREATED:20251201T212032Z
LAST-MODIFIED:20251201T212032Z
UID:5613-1777730400-1777730400@waltriphspto.org
SUMMARY:Kentucky Derby Pub Party (Jazz on 34th Social)
DESCRIPTION:Adults only – Hosted by Rashod Austin\, Sherry Chavez\, Rachel Riebeling\, and Michelle Schoene
URL:https://waltriphspto.org/event/kentucky-derby-pub-party/
LOCATION:TX
CATEGORIES:Socials
ATTACH;FMTTYPE=image/webp:https://waltriphspto.org/wp-content/uploads/2025/11/derby-pub-party.webp
END:VEVENT
BEGIN:VEVENT
DTSTART;TZID=America/Chicago:20260520T160000
DTEND;TZID=America/Chicago:20260520T210000
DTSTAMP:20260422T224013
CREATED:20250924T152904Z
LAST-MODIFIED:20250924T152904Z
UID:4618-1779292800-1779310800@waltriphspto.org
SUMMARY:La Viva Spirit Night
DESCRIPTION:🍽️ Dine at La Viva on Wed\, May 20!La Viva will donate 20% of your order to Waltrip PTO\, supporting student events\, teacher appreciation\, teacher grants\, and more.✅ Don’t forget to mention “Waltrip” at checkout!
URL:https://waltriphspto.org/event/la-viva-spirit-night-5/
LOCATION:La Viva\, 1201 W. 43rd\, Houston\, TX\, 77018\, United States
CATEGORIES:Fundraising,Spirit Night
ATTACH;FMTTYPE=image/webp:https://waltriphspto.org/wp-content/uploads/2025/09/La-Viva-5_20.webp
END:VEVENT
BEGIN:VEVENT
DTSTART;TZID=America/Chicago:20260525T000000
DTEND;TZID=America/Chicago:20260525T235959
DTSTAMP:20260422T224013
CREATED:20250804T164409Z
LAST-MODIFIED:20250804T164409Z
UID:3460-1779667200-1779753599@waltriphspto.org
SUMMARY:Memorial Day - No Classes
DESCRIPTION:
URL:https://waltriphspto.org/event/memorial-day-no-classes/
LOCATION:TX
CATEGORIES:No Classes
ATTACH;FMTTYPE=image/png:https://waltriphspto.org/wp-content/uploads/2025/08/14.png
END:VEVENT
BEGIN:VEVENT
DTSTART;TZID=America/Chicago:20260526T180000
DTEND;TZID=America/Chicago:20260526T180000
DTSTAMP:20260422T224013
CREATED:20250812T184641Z
LAST-MODIFIED:20260408T225124Z
UID:3704-1779818400-1779818400@waltriphspto.org
SUMMARY:PTO General Meeting - May 2026
DESCRIPTION:
URL:https://waltriphspto.org/event/pto-general-meeting-may-2026/
LOCATION:Waltrip Library\, 1900 W. 34th\, Houston\, TX\, 77018\, United States
CATEGORIES:PTO Meeting
ATTACH;FMTTYPE=image/webp:https://waltriphspto.org/wp-content/uploads/2025/08/PTO-General-Meeting.webp
END:VEVENT
BEGIN:VEVENT
DTSTART;TZID=America/Chicago:20260604T000000
DTEND;TZID=America/Chicago:20260604T235959
DTSTAMP:20260422T224013
CREATED:20250903T183041Z
LAST-MODIFIED:20250903T183041Z
UID:4321-1780531200-1780617599@waltriphspto.org
SUMMARY:Class Wars Victory Day
DESCRIPTION:Freshmen\, Sophomores\, Juniors\, and Seniors go head-to-head in Class Wars\, earning points through school spirit and participation. At the end of the competition\, one class will rise above the rest and be crowned the champion. \nThe winner’s celebration will be sponsored by the PTO\, ensuring plenty of fun and Ram pride for the victorious class!
URL:https://waltriphspto.org/event/class-wars-victory-day-8/
LOCATION:TX
CATEGORIES:School Culture
END:VEVENT
END:VCALENDAR